BEGIN:VCALENDAR
VERSION:2.0
PRODID:-//OFFB - Operatørenes forening for beredskap - ECPv6.15.18//NONSGML v1.0//EN
CALSCALE:GREGORIAN
METHOD:PUBLISH
X-WR-CALNAME:OFFB - Operatørenes forening for beredskap
X-ORIGINAL-URL:https://offb.no
X-WR-CALDESC:Arrangement for OFFB - Operatørenes forening for beredskap
REFRESH-INTERVAL;VALUE=DURATION:PT1H
X-Robots-Tag:noindex
X-PUBLISHED-TTL:PT1H
BEGIN:VTIMEZONE
TZID:Europe/Oslo
BEGIN:DAYLIGHT
TZOFFSETFROM:+0100
TZOFFSETTO:+0200
TZNAME:CEST
DTSTART:20230326T010000
END:DAYLIGHT
BEGIN:STANDARD
TZOFFSETFROM:+0200
TZOFFSETTO:+0100
TZNAME:CET
DTSTART:20231029T010000
END:STANDARD
BEGIN:DAYLIGHT
TZOFFSETFROM:+0100
TZOFFSETTO:+0200
TZNAME:CEST
DTSTART:20240331T010000
END:DAYLIGHT
BEGIN:STANDARD
TZOFFSETFROM:+0200
TZOFFSETTO:+0100
TZNAME:CET
DTSTART:20241027T010000
END:STANDARD
BEGIN:DAYLIGHT
TZOFFSETFROM:+0100
TZOFFSETTO:+0200
TZNAME:CEST
DTSTART:20250330T010000
END:DAYLIGHT
BEGIN:STANDARD
TZOFFSETFROM:+0200
TZOFFSETTO:+0100
TZNAME:CET
DTSTART:20251026T010000
END:STANDARD
END:VTIMEZONE
BEGIN:VEVENT
DTSTART;TZID=Europe/Oslo:20240903T083000
DTEND;TZID=Europe/Oslo:20240903T120000
DTSTAMP:20260420T055024
CREATED:20240626T084922Z
LAST-MODIFIED:20240626T094723Z
UID:2676-1725352200-1725364800@offb.no
SUMMARY:Okea - Nivå 2 øvelse
DESCRIPTION:Okea øvelse med fokus på utdanning/trening av nytt personell i Okea støttevakt og Okea 3.linje. Okea 2.linje stiller med fullt vaktlag.
URL:https://offb.no/kalender/okea-niva-2-ovelse/
END:VEVENT
BEGIN:VEVENT
DTSTART;TZID=Europe/Oslo:20240903T130000
DTEND;TZID=Europe/Oslo:20240903T150000
DTSTAMP:20260420T055024
CREATED:20240621T095331Z
LAST-MODIFIED:20240624T073603Z
UID:2458-1725368400-1725375600@offb.no
SUMMARY:A/S Norske Shell - TT Nyhamna
DESCRIPTION:Gå gjennom en spesifikk DFU
URL:https://offb.no/kalender/as-norske-shell-tt-nyhamna/
END:VEVENT
END:VCALENDAR