BEGIN:VCALENDAR
VERSION:2.0
PRODID:-//OFFB - Operatørenes forening for beredskap - ECPv6.15.18//NONSGML v1.0//EN
CALSCALE:GREGORIAN
METHOD:PUBLISH
X-ORIGINAL-URL:https://offb.no
X-WR-CALDESC:Arrangement for OFFB - Operatørenes forening for beredskap
REFRESH-INTERVAL;VALUE=DURATION:PT1H
X-Robots-Tag:noindex
X-PUBLISHED-TTL:PT1H
BEGIN:VTIMEZONE
TZID:Europe/Oslo
BEGIN:DAYLIGHT
TZOFFSETFROM:+0100
TZOFFSETTO:+0200
TZNAME:CEST
DTSTART:20230326T010000
END:DAYLIGHT
BEGIN:STANDARD
TZOFFSETFROM:+0200
TZOFFSETTO:+0100
TZNAME:CET
DTSTART:20231029T010000
END:STANDARD
BEGIN:DAYLIGHT
TZOFFSETFROM:+0100
TZOFFSETTO:+0200
TZNAME:CEST
DTSTART:20240331T010000
END:DAYLIGHT
BEGIN:STANDARD
TZOFFSETFROM:+0200
TZOFFSETTO:+0100
TZNAME:CET
DTSTART:20241027T010000
END:STANDARD
BEGIN:DAYLIGHT
TZOFFSETFROM:+0100
TZOFFSETTO:+0200
TZNAME:CEST
DTSTART:20250330T010000
END:DAYLIGHT
BEGIN:STANDARD
TZOFFSETFROM:+0200
TZOFFSETTO:+0100
TZNAME:CET
DTSTART:20251026T010000
END:STANDARD
END:VTIMEZONE
BEGIN:VEVENT
DTSTART;TZID=Europe/Oslo:20240313T090000
DTEND;TZID=Europe/Oslo:20240313T130000
DTSTAMP:20260424T144809
CREATED:20240624T083540Z
LAST-MODIFIED:20240624T083540Z
UID:2539-1710320400-1710334800@offb.no
SUMMARY:Wellesley - TT
DESCRIPTION:
URL:https://offb.no/kalender/wellesley-tt/
END:VEVENT
BEGIN:VEVENT
DTSTART;TZID=Europe/Oslo:20240313T100000
DTEND;TZID=Europe/Oslo:20240313T150000
DTSTAMP:20260424T144809
CREATED:20240624T083626Z
LAST-MODIFIED:20240624T083626Z
UID:2541-1710324000-1710342000@offb.no
SUMMARY:Gassco - TT Knarr Gas Pipe
DESCRIPTION:
URL:https://offb.no/kalender/gassco-tt-knarr-gas-pipe/
END:VEVENT
END:VCALENDAR