BEGIN:VCALENDAR
VERSION:2.0
PRODID:-//OFFB - Operatørenes forening for beredskap - ECPv6.15.18//NONSGML v1.0//EN
CALSCALE:GREGORIAN
METHOD:PUBLISH
X-WR-CALNAME:OFFB - Operatørenes forening for beredskap
X-ORIGINAL-URL:https://offb.no
X-WR-CALDESC:Arrangement for OFFB - Operatørenes forening for beredskap
REFRESH-INTERVAL;VALUE=DURATION:PT1H
X-Robots-Tag:noindex
X-PUBLISHED-TTL:PT1H
BEGIN:VTIMEZONE
TZID:Europe/Oslo
BEGIN:DAYLIGHT
TZOFFSETFROM:+0100
TZOFFSETTO:+0200
TZNAME:CEST
DTSTART:20230326T010000
END:DAYLIGHT
BEGIN:STANDARD
TZOFFSETFROM:+0200
TZOFFSETTO:+0100
TZNAME:CET
DTSTART:20231029T010000
END:STANDARD
BEGIN:DAYLIGHT
TZOFFSETFROM:+0100
TZOFFSETTO:+0200
TZNAME:CEST
DTSTART:20240331T010000
END:DAYLIGHT
BEGIN:STANDARD
TZOFFSETFROM:+0200
TZOFFSETTO:+0100
TZNAME:CET
DTSTART:20241027T010000
END:STANDARD
BEGIN:DAYLIGHT
TZOFFSETFROM:+0100
TZOFFSETTO:+0200
TZNAME:CEST
DTSTART:20250330T010000
END:DAYLIGHT
BEGIN:STANDARD
TZOFFSETFROM:+0200
TZOFFSETTO:+0100
TZNAME:CET
DTSTART:20251026T010000
END:STANDARD
END:VTIMEZONE
BEGIN:VEVENT
DTSTART;TZID=Europe/Oslo:20240131T090000
DTEND;TZID=Europe/Oslo:20240131T110000
DTSTAMP:20260424T161706
CREATED:20231205T125830Z
LAST-MODIFIED:20240625T082431Z
UID:2246-1706691600-1706698800@offb.no
SUMMARY:Neptune Energy - Table top - (PL 636 Cerisa)
DESCRIPTION:Vi gjennomfører table top-øvelse med Neptune Energy i samvirke med Odfjell Drilling og Deepsea Yantai. \nØvingsleder: Pål Erland
URL:https://offb.no/kalender/table-top-neptune-energy-pl-636-cerisa/
END:VEVENT
END:VCALENDAR