BEGIN:VCALENDAR
VERSION:2.0
PRODID:-//OFFB - Operatørenes forening for beredskap - ECPv6.15.18//NONSGML v1.0//EN
CALSCALE:GREGORIAN
METHOD:PUBLISH
X-WR-CALNAME:OFFB - Operatørenes forening for beredskap
X-ORIGINAL-URL:https://offb.no
X-WR-CALDESC:Arrangement for OFFB - Operatørenes forening for beredskap
REFRESH-INTERVAL;VALUE=DURATION:PT1H
X-Robots-Tag:noindex
X-PUBLISHED-TTL:PT1H
BEGIN:VTIMEZONE
TZID:Europe/Oslo
BEGIN:DAYLIGHT
TZOFFSETFROM:+0100
TZOFFSETTO:+0200
TZNAME:CEST
DTSTART:20220327T010000
END:DAYLIGHT
BEGIN:STANDARD
TZOFFSETFROM:+0200
TZOFFSETTO:+0100
TZNAME:CET
DTSTART:20221030T010000
END:STANDARD
BEGIN:DAYLIGHT
TZOFFSETFROM:+0100
TZOFFSETTO:+0200
TZNAME:CEST
DTSTART:20230326T010000
END:DAYLIGHT
BEGIN:STANDARD
TZOFFSETFROM:+0200
TZOFFSETTO:+0100
TZNAME:CET
DTSTART:20231029T010000
END:STANDARD
BEGIN:DAYLIGHT
TZOFFSETFROM:+0100
TZOFFSETTO:+0200
TZNAME:CEST
DTSTART:20240331T010000
END:DAYLIGHT
BEGIN:STANDARD
TZOFFSETFROM:+0200
TZOFFSETTO:+0100
TZNAME:CET
DTSTART:20241027T010000
END:STANDARD
BEGIN:DAYLIGHT
TZOFFSETFROM:+0100
TZOFFSETTO:+0200
TZNAME:CEST
DTSTART:20250330T010000
END:DAYLIGHT
BEGIN:STANDARD
TZOFFSETFROM:+0200
TZOFFSETTO:+0100
TZNAME:CET
DTSTART:20251026T010000
END:STANDARD
END:VTIMEZONE
BEGIN:VEVENT
DTSTART;TZID=Europe/Oslo:20240405T093000
DTEND;TZID=Europe/Oslo:20240405T110000
DTSTAMP:20260424T181034
CREATED:20240624T084500Z
LAST-MODIFIED:20240624T084500Z
UID:2561-1712309400-1712314800@offb.no
SUMMARY:Aker BP - TT
DESCRIPTION:Alvheim
URL:https://offb.no/kalender/aker-bp-tt/
END:VEVENT
BEGIN:VEVENT
DTSTART;TZID=Europe/Oslo:20240404T080000
DTEND;TZID=Europe/Oslo:20240404T120000
DTSTAMP:20260424T181034
CREATED:20240624T084424Z
LAST-MODIFIED:20240625T065534Z
UID:2559-1712217600-1712232000@offb.no
SUMMARY:Aker BP - Øvelse Nivå 1
DESCRIPTION:2.linje og ledelsesvakt
URL:https://offb.no/kalender/aker-bp-niva-1-ovelse-5/
END:VEVENT
BEGIN:VEVENT
DTSTART;TZID=Europe/Oslo:20240403T140000
DTEND;TZID=Europe/Oslo:20240403T170000
DTSTAMP:20260424T181034
CREATED:20240624T084251Z
LAST-MODIFIED:20240624T084251Z
UID:2555-1712152800-1712163600@offb.no
SUMMARY:A/S Norske Shell - TT
DESCRIPTION:
URL:https://offb.no/kalender/a-s-norske-shell-tt/
END:VEVENT
BEGIN:VEVENT
DTSTART;TZID=Europe/Oslo:20240322T093000
DTEND;TZID=Europe/Oslo:20240322T113000
DTSTAMP:20260424T181034
CREATED:20240624T084213Z
LAST-MODIFIED:20240624T084213Z
UID:2553-1711099800-1711107000@offb.no
SUMMARY:DNO TT
DESCRIPTION:TT Trym
URL:https://offb.no/kalender/dno-tt/
END:VEVENT
BEGIN:VEVENT
DTSTART;VALUE=DATE:20240321
DTEND;VALUE=DATE:20240322
DTSTAMP:20260424T181034
CREATED:20240130T111020Z
LAST-MODIFIED:20240625T065613Z
UID:2375-1710979200-1711065599@offb.no
SUMMARY:Wintershall Dea - Øvelse Nivå-3
DESCRIPTION:Øvingsledere: Kim Sviland/Magnus Klem Husebye
URL:https://offb.no/kalender/wintershall-dea-niva-3-ovelse/
END:VEVENT
BEGIN:VEVENT
DTSTART;TZID=Europe/Oslo:20240320T120000
DTEND;TZID=Europe/Oslo:20240320T160000
DTSTAMP:20260424T181034
CREATED:20240624T084048Z
LAST-MODIFIED:20240625T065637Z
UID:2549-1710936000-1710950400@offb.no
SUMMARY:Aker BP - Øvelse Nivå 1
DESCRIPTION:2.linje og ledelsesvakt
URL:https://offb.no/kalender/aker-bp-niva-1-ovelse-3/
END:VEVENT
BEGIN:VEVENT
DTSTART;TZID=Europe/Oslo:20240320T100000
DTEND;TZID=Europe/Oslo:20240320T140000
DTSTAMP:20260424T181034
CREATED:20240624T083912Z
LAST-MODIFIED:20240625T065750Z
UID:2547-1710928800-1710943200@offb.no
SUMMARY:A/S Norske Shell - Øvelse Nivå 3
DESCRIPTION:
URL:https://offb.no/kalender/a-s-norske-shell-niva-3-ovelse/
END:VEVENT
BEGIN:VEVENT
DTSTART;TZID=Europe/Oslo:20240319T120000
DTEND;TZID=Europe/Oslo:20240319T160000
DTSTAMP:20260424T181034
CREATED:20240130T063517Z
LAST-MODIFIED:20240625T065821Z
UID:2372-1710849600-1710864000@offb.no
SUMMARY:Okea - Øvelse Nivå 3
DESCRIPTION:Øvingsleder: Magnus Klem Husebye. \n 
URL:https://offb.no/kalender/okea-niva-3-ovelse/
END:VEVENT
BEGIN:VEVENT
DTSTART;TZID=Europe/Oslo:20240315T123000
DTEND;TZID=Europe/Oslo:20240315T153000
DTSTAMP:20260424T181034
CREATED:20240624T083800Z
LAST-MODIFIED:20240624T083800Z
UID:2545-1710505800-1710516600@offb.no
SUMMARY:Sval - Utsjekksøvelse Ny MR
DESCRIPTION:
URL:https://offb.no/kalender/sval-utsjekksovelse-ny-mr/
END:VEVENT
BEGIN:VEVENT
DTSTART;TZID=Europe/Oslo:20240315T080000
DTEND;TZID=Europe/Oslo:20240315T120000
DTSTAMP:20260424T181034
CREATED:20240624T083716Z
LAST-MODIFIED:20240624T083716Z
UID:2543-1710489600-1710504000@offb.no
SUMMARY:Wellesley - ICS Work Shop
DESCRIPTION:
URL:https://offb.no/kalender/wellesley-ics-work-shop/
END:VEVENT
BEGIN:VEVENT
DTSTART;TZID=Europe/Oslo:20240313T100000
DTEND;TZID=Europe/Oslo:20240313T150000
DTSTAMP:20260424T181034
CREATED:20240624T083626Z
LAST-MODIFIED:20240624T083626Z
UID:2541-1710324000-1710342000@offb.no
SUMMARY:Gassco - TT Knarr Gas Pipe
DESCRIPTION:
URL:https://offb.no/kalender/gassco-tt-knarr-gas-pipe/
END:VEVENT
BEGIN:VEVENT
DTSTART;TZID=Europe/Oslo:20240313T090000
DTEND;TZID=Europe/Oslo:20240313T130000
DTSTAMP:20260424T181034
CREATED:20240624T083540Z
LAST-MODIFIED:20240624T083540Z
UID:2539-1710320400-1710334800@offb.no
SUMMARY:Wellesley - TT
DESCRIPTION:
URL:https://offb.no/kalender/wellesley-tt/
END:VEVENT
BEGIN:VEVENT
DTSTART;TZID=Europe/Oslo:20240307T120000
DTEND;TZID=Europe/Oslo:20240307T160000
DTSTAMP:20260424T181034
CREATED:20240624T083342Z
LAST-MODIFIED:20240625T065852Z
UID:2535-1709812800-1709827200@offb.no
SUMMARY:Aker BP - Øvelse Nivå 1
DESCRIPTION:2.linje og ledelsesvakt
URL:https://offb.no/kalender/aker-bp-niva-1-ovelse-2/
END:VEVENT
BEGIN:VEVENT
DTSTART;TZID=Europe/Oslo:20240307T083000
DTEND;TZID=Europe/Oslo:20240307T113000
DTSTAMP:20260424T181034
CREATED:20240624T083417Z
LAST-MODIFIED:20240624T083417Z
UID:2537-1709800200-1709811000@offb.no
SUMMARY:Sval - Trening ny MR
DESCRIPTION:
URL:https://offb.no/kalender/sval-trening-ny-mr/
END:VEVENT
BEGIN:VEVENT
DTSTART;TZID=Europe/Oslo:20240306T080000
DTEND;TZID=Europe/Oslo:20240306T120000
DTSTAMP:20260424T181034
CREATED:20231205T130133Z
LAST-MODIFIED:20240625T081816Z
UID:2253-1709712000-1709726400@offb.no
SUMMARY:Neptune Energy - Øvelse Nivå 2
DESCRIPTION:Vi gjennomfører nivå 2-øvelse med Neptune Energy. \nØvingsleder: Pål Erland
URL:https://offb.no/kalender/niva-2-ovelse-neptune-energy-4/
END:VEVENT
BEGIN:VEVENT
DTSTART;TZID=Europe/Oslo:20240305T120000
DTEND;TZID=Europe/Oslo:20240305T160000
DTSTAMP:20260424T181034
CREATED:20240624T082953Z
LAST-MODIFIED:20240624T082953Z
UID:2533-1709640000-1709654400@offb.no
SUMMARY:Wellesley - CIM trening
DESCRIPTION:
URL:https://offb.no/kalender/wellesley-cim-trening/
END:VEVENT
BEGIN:VEVENT
DTSTART;TZID=Europe/Oslo:20240221T080000
DTEND;TZID=Europe/Oslo:20240221T120000
DTSTAMP:20260424T181034
CREATED:20231205T130017Z
LAST-MODIFIED:20240625T081722Z
UID:2250-1708502400-1708516800@offb.no
SUMMARY:Neptune Energy - Øvelse Nivå 2
DESCRIPTION:Vi gjennomfører nivå 2-øvelse med Neptune Energy. \nØvingsleder: Pål Erland
URL:https://offb.no/kalender/niva-2-ovelse-neptune-energy-3/
END:VEVENT
BEGIN:VEVENT
DTSTART;TZID=Europe/Oslo:20240220T080000
DTEND;TZID=Europe/Oslo:20240220T120000
DTSTAMP:20260424T181034
CREATED:20240624T082854Z
LAST-MODIFIED:20240625T081858Z
UID:2531-1708416000-1708430400@offb.no
SUMMARY:OFFB - Intern øvelse Nivå 1
DESCRIPTION:Fokus på å opprettholde situasjonforståelse ved bytte av situasjonsrom fra OFFB til Vår Energi
URL:https://offb.no/kalender/offb-intern-niva-1-ovelse-2/
END:VEVENT
BEGIN:VEVENT
DTSTART;TZID=Europe/Oslo:20240214T080000
DTEND;TZID=Europe/Oslo:20240214T120000
DTSTAMP:20260424T181034
CREATED:20231205T125923Z
LAST-MODIFIED:20240625T081951Z
UID:2248-1707897600-1707912000@offb.no
SUMMARY:Neptune Energy - Øvelse Nivå 2
DESCRIPTION:Vi gjennomfører nivå 2-øvelse med Neptune Energy. \nØvingsleder: Pål Erland
URL:https://offb.no/kalender/niva-2-ovelse-neptune-energy-2/
END:VEVENT
BEGIN:VEVENT
DTSTART;TZID=Europe/Oslo:20240213T080000
DTEND;TZID=Europe/Oslo:20240213T120000
DTSTAMP:20260424T181034
CREATED:20240624T082723Z
LAST-MODIFIED:20240625T082239Z
UID:2529-1707811200-1707825600@offb.no
SUMMARY:Gassco - Øvelse Nivå 1
DESCRIPTION:
URL:https://offb.no/kalender/gassco-niva-1-ovelse-2/
END:VEVENT
BEGIN:VEVENT
DTSTART;TZID=Europe/Oslo:20240207T080000
DTEND;TZID=Europe/Oslo:20240207T120000
DTSTAMP:20260424T181034
CREATED:20231205T125655Z
LAST-MODIFIED:20240625T082321Z
UID:2244-1707292800-1707307200@offb.no
SUMMARY:Neptune Energy -  Øvelse Nivå 2
DESCRIPTION:Vi gjennomfører nivå 2-øvelse med Neptune Energy. \nØvingsleder: Pål Erland
URL:https://offb.no/kalender/niva-2-ovelse-neptune-energy/
END:VEVENT
BEGIN:VEVENT
DTSTART;TZID=Europe/Oslo:20240206T080000
DTEND;TZID=Europe/Oslo:20240206T120000
DTSTAMP:20260424T181034
CREATED:20240624T082236Z
LAST-MODIFIED:20240625T082354Z
UID:2525-1707206400-1707220800@offb.no
SUMMARY:Gassco - Øvelse Nivå 1
DESCRIPTION:
URL:https://offb.no/kalender/gassco-niva-1-ovelse/
END:VEVENT
BEGIN:VEVENT
DTSTART;TZID=Europe/Oslo:20240131T090000
DTEND;TZID=Europe/Oslo:20240131T110000
DTSTAMP:20260424T181034
CREATED:20231205T125830Z
LAST-MODIFIED:20240625T082431Z
UID:2246-1706691600-1706698800@offb.no
SUMMARY:Neptune Energy - Table top - (PL 636 Cerisa)
DESCRIPTION:Vi gjennomfører table top-øvelse med Neptune Energy i samvirke med Odfjell Drilling og Deepsea Yantai. \nØvingsleder: Pål Erland
URL:https://offb.no/kalender/table-top-neptune-energy-pl-636-cerisa/
END:VEVENT
BEGIN:VEVENT
DTSTART;TZID=Europe/Oslo:20240124T080000
DTEND;TZID=Europe/Oslo:20240124T120000
DTSTAMP:20260424T181034
CREATED:20240624T082122Z
LAST-MODIFIED:20240625T065722Z
UID:2521-1706083200-1706097600@offb.no
SUMMARY:OFFB Intern - Øvelse Nivå 1
DESCRIPTION:Fokus på å opprettholde situasjonsforståelse ved flytting av situasjonsrom fra OFFB til Vår Energi
URL:https://offb.no/kalender/offb-intern-niva-1-ovelse/
END:VEVENT
BEGIN:VEVENT
DTSTART;TZID=Europe/Oslo:20240123T080000
DTEND;TZID=Europe/Oslo:20240124T160000
DTSTAMP:20260424T181034
CREATED:20240624T082156Z
LAST-MODIFIED:20240624T082156Z
UID:2523-1705996800-1706112000@offb.no
SUMMARY:OKEA - Samtrening med Brage
DESCRIPTION:Samtrening med Brage beredskapsorganisasjon ved Maersk Training lokaler ved Haugesund
URL:https://offb.no/kalender/okea-samtrening-med-brage/
END:VEVENT
BEGIN:VEVENT
DTSTART;TZID=Europe/Oslo:20240116T080000
DTEND;TZID=Europe/Oslo:20240117T160000
DTSTAMP:20260424T181034
CREATED:20240624T081938Z
LAST-MODIFIED:20240624T081938Z
UID:2517-1705392000-1705507200@offb.no
SUMMARY:OSEP - Opplæring Hammerfest
DESCRIPTION:Opplæring av nytt OSEP personell ved Hammerfest
URL:https://offb.no/kalender/osep-opplaering-hammerfest/
END:VEVENT
BEGIN:VEVENT
DTSTART;TZID=Europe/Oslo:20240109T120000
DTEND;TZID=Europe/Oslo:20240109T130000
DTSTAMP:20260424T181034
CREATED:20231212T073546Z
LAST-MODIFIED:20240625T082520Z
UID:2297-1704801600-1704805200@offb.no
SUMMARY:Aker BP  - TT
DESCRIPTION:Tabletop med Aker BP og Saipem.
URL:https://offb.no/kalender/9-januar-aker-bp-tabletop/
END:VEVENT
BEGIN:VEVENT
DTSTART;TZID=Europe/Oslo:20240109T080000
DTEND;TZID=Europe/Oslo:20240110T160000
DTSTAMP:20260424T181034
CREATED:20240624T081839Z
LAST-MODIFIED:20240624T081839Z
UID:2515-1704787200-1704902400@offb.no
SUMMARY:OKEA - Samtrening Brage
DESCRIPTION:Samtrening med Brage beredskapsorganisasjon ved Maersk Training lokaler ved Haugesund
URL:https://offb.no/kalender/okea-samtrening-brage/
END:VEVENT
BEGIN:VEVENT
DTSTART;TZID=Europe/Oslo:20231206T120000
DTEND;TZID=Europe/Oslo:20231206T153000
DTSTAMP:20260424T181034
CREATED:20231205T125500Z
LAST-MODIFIED:20231205T130926Z
UID:2242-1701864000-1701876600@offb.no
SUMMARY:Table top - Neptune Energy
DESCRIPTION:Table top gjennomføres for beredskapsorganisasjonen til Neptune Energy med deltakelse også fra Gjøa-innretningen. \nØvingsleder: Pål Erland
URL:https://offb.no/kalender/table-top-ovelse-neptune-energy/
END:VEVENT
BEGIN:VEVENT
DTSTART;TZID=Europe/Oslo:20231206T080000
DTEND;TZID=Europe/Oslo:20231206T120000
DTSTAMP:20260424T181034
CREATED:20231205T125239Z
LAST-MODIFIED:20231205T130538Z
UID:2240-1701849600-1701864000@offb.no
SUMMARY:OSEP-øvelse i Stavanger med DNO og Sjømannskirken
DESCRIPTION:OFFB gjennomfører OSEP-øvelse på Thon Hotel Maritim i samvirke med Securitas\, DNO\, Thon Hotel og Sjømannskirken. Det brukes markører som vil spille evakuerte fra en offshore-innretning. \n(OSEP: Operatørens senter for evakuerte og pårørende) \nØvingsledelse: Pål Erland og Kim Sviland
URL:https://offb.no/kalender/osep-ovelse-i-stavanger-med-dno-og-sjomannskirken/
END:VEVENT
END:VCALENDAR