BEGIN:VCALENDAR
VERSION:2.0
PRODID:-//OFFB - Operatørenes forening for beredskap - ECPv6.15.18//NONSGML v1.0//EN
CALSCALE:GREGORIAN
METHOD:PUBLISH
X-WR-CALNAME:OFFB - Operatørenes forening for beredskap
X-ORIGINAL-URL:https://offb.no
X-WR-CALDESC:Arrangement for OFFB - Operatørenes forening for beredskap
REFRESH-INTERVAL;VALUE=DURATION:PT1H
X-Robots-Tag:noindex
X-PUBLISHED-TTL:PT1H
BEGIN:VTIMEZONE
TZID:Europe/Oslo
BEGIN:DAYLIGHT
TZOFFSETFROM:+0100
TZOFFSETTO:+0200
TZNAME:CEST
DTSTART:20220327T010000
END:DAYLIGHT
BEGIN:STANDARD
TZOFFSETFROM:+0200
TZOFFSETTO:+0100
TZNAME:CET
DTSTART:20221030T010000
END:STANDARD
BEGIN:DAYLIGHT
TZOFFSETFROM:+0100
TZOFFSETTO:+0200
TZNAME:CEST
DTSTART:20230326T010000
END:DAYLIGHT
BEGIN:STANDARD
TZOFFSETFROM:+0200
TZOFFSETTO:+0100
TZNAME:CET
DTSTART:20231029T010000
END:STANDARD
BEGIN:DAYLIGHT
TZOFFSETFROM:+0100
TZOFFSETTO:+0200
TZNAME:CEST
DTSTART:20240331T010000
END:DAYLIGHT
BEGIN:STANDARD
TZOFFSETFROM:+0200
TZOFFSETTO:+0100
TZNAME:CET
DTSTART:20241027T010000
END:STANDARD
BEGIN:DAYLIGHT
TZOFFSETFROM:+0100
TZOFFSETTO:+0200
TZNAME:CEST
DTSTART:20250330T010000
END:DAYLIGHT
BEGIN:STANDARD
TZOFFSETFROM:+0200
TZOFFSETTO:+0100
TZNAME:CET
DTSTART:20251026T010000
END:STANDARD
END:VTIMEZONE
BEGIN:VEVENT
DTSTART;TZID=Europe/Oslo:20240124T080000
DTEND;TZID=Europe/Oslo:20240124T120000
DTSTAMP:20260425T144831
CREATED:20240624T082122Z
LAST-MODIFIED:20240625T065722Z
UID:2521-1706083200-1706097600@offb.no
SUMMARY:OFFB Intern - Øvelse Nivå 1
DESCRIPTION:Fokus på å opprettholde situasjonsforståelse ved flytting av situasjonsrom fra OFFB til Vår Energi
URL:https://offb.no/kalender/offb-intern-niva-1-ovelse/
END:VEVENT
BEGIN:VEVENT
DTSTART;TZID=Europe/Oslo:20240123T080000
DTEND;TZID=Europe/Oslo:20240124T160000
DTSTAMP:20260425T144831
CREATED:20240624T082156Z
LAST-MODIFIED:20240624T082156Z
UID:2523-1705996800-1706112000@offb.no
SUMMARY:OKEA - Samtrening med Brage
DESCRIPTION:Samtrening med Brage beredskapsorganisasjon ved Maersk Training lokaler ved Haugesund
URL:https://offb.no/kalender/okea-samtrening-med-brage/
END:VEVENT
BEGIN:VEVENT
DTSTART;TZID=Europe/Oslo:20240116T080000
DTEND;TZID=Europe/Oslo:20240117T160000
DTSTAMP:20260425T144831
CREATED:20240624T081938Z
LAST-MODIFIED:20240624T081938Z
UID:2517-1705392000-1705507200@offb.no
SUMMARY:OSEP - Opplæring Hammerfest
DESCRIPTION:Opplæring av nytt OSEP personell ved Hammerfest
URL:https://offb.no/kalender/osep-opplaering-hammerfest/
END:VEVENT
BEGIN:VEVENT
DTSTART;TZID=Europe/Oslo:20240109T120000
DTEND;TZID=Europe/Oslo:20240109T130000
DTSTAMP:20260425T144831
CREATED:20231212T073546Z
LAST-MODIFIED:20240625T082520Z
UID:2297-1704801600-1704805200@offb.no
SUMMARY:Aker BP  - TT
DESCRIPTION:Tabletop med Aker BP og Saipem.
URL:https://offb.no/kalender/9-januar-aker-bp-tabletop/
END:VEVENT
BEGIN:VEVENT
DTSTART;TZID=Europe/Oslo:20240109T080000
DTEND;TZID=Europe/Oslo:20240110T160000
DTSTAMP:20260425T144831
CREATED:20240624T081839Z
LAST-MODIFIED:20240624T081839Z
UID:2515-1704787200-1704902400@offb.no
SUMMARY:OKEA - Samtrening Brage
DESCRIPTION:Samtrening med Brage beredskapsorganisasjon ved Maersk Training lokaler ved Haugesund
URL:https://offb.no/kalender/okea-samtrening-brage/
END:VEVENT
BEGIN:VEVENT
DTSTART;TZID=Europe/Oslo:20231206T120000
DTEND;TZID=Europe/Oslo:20231206T153000
DTSTAMP:20260425T144831
CREATED:20231205T125500Z
LAST-MODIFIED:20231205T130926Z
UID:2242-1701864000-1701876600@offb.no
SUMMARY:Table top - Neptune Energy
DESCRIPTION:Table top gjennomføres for beredskapsorganisasjonen til Neptune Energy med deltakelse også fra Gjøa-innretningen. \nØvingsleder: Pål Erland
URL:https://offb.no/kalender/table-top-ovelse-neptune-energy/
END:VEVENT
BEGIN:VEVENT
DTSTART;TZID=Europe/Oslo:20231206T080000
DTEND;TZID=Europe/Oslo:20231206T120000
DTSTAMP:20260425T144831
CREATED:20231205T125239Z
LAST-MODIFIED:20231205T130538Z
UID:2240-1701849600-1701864000@offb.no
SUMMARY:OSEP-øvelse i Stavanger med DNO og Sjømannskirken
DESCRIPTION:OFFB gjennomfører OSEP-øvelse på Thon Hotel Maritim i samvirke med Securitas\, DNO\, Thon Hotel og Sjømannskirken. Det brukes markører som vil spille evakuerte fra en offshore-innretning. \n(OSEP: Operatørens senter for evakuerte og pårørende) \nØvingsledelse: Pål Erland og Kim Sviland
URL:https://offb.no/kalender/osep-ovelse-i-stavanger-med-dno-og-sjomannskirken/
END:VEVENT
BEGIN:VEVENT
DTSTART;TZID=Europe/Oslo:20231124T090000
DTEND;TZID=Europe/Oslo:20231124T113000
DTSTAMP:20260425T144831
CREATED:20230616T120736Z
LAST-MODIFIED:20230616T120816Z
UID:2088-1700816400-1700825400@offb.no
SUMMARY:24. november: Sval Energi - Nivå 1-trening – Oda
DESCRIPTION:Det gjennomføres en nivå 1-trening for Sval Energi på Oda 09:00-11:30.
URL:https://offb.no/kalender/24-november-sval-energi-niva-1-trening-oda/
END:VEVENT
BEGIN:VEVENT
DTSTART;TZID=Europe/Oslo:20231117T123000
DTEND;TZID=Europe/Oslo:20231117T150000
DTSTAMP:20260425T144831
CREATED:20230616T120725Z
LAST-MODIFIED:20230616T120908Z
UID:2086-1700224200-1700233200@offb.no
SUMMARY:17. november: Sval Energi - Nivå 1-trening – Oda
DESCRIPTION:Det gjennomføres en nivå 1-trening for Sval Energi på Oda 12:30-15:00.
URL:https://offb.no/kalender/17-november-sval-energi-niva-1-trening-oda-2/
END:VEVENT
BEGIN:VEVENT
DTSTART;TZID=Europe/Oslo:20231117T090000
DTEND;TZID=Europe/Oslo:20231117T113000
DTSTAMP:20260425T144831
CREATED:20230616T120708Z
LAST-MODIFIED:20230616T120947Z
UID:2084-1700211600-1700220600@offb.no
SUMMARY:17. november: Sval Energi - Nivå 1-trening – Oda
DESCRIPTION:Det gjennomføres en nivå 1-trening for Sval Energi på Oda 09:00-11:30.
URL:https://offb.no/kalender/17-november-sval-energi-niva-1-trening-oda/
END:VEVENT
BEGIN:VEVENT
DTSTART;TZID=Europe/Oslo:20231110T123000
DTEND;TZID=Europe/Oslo:20231110T150000
DTSTAMP:20260425T144831
CREATED:20230616T120649Z
LAST-MODIFIED:20230616T121014Z
UID:2082-1699619400-1699628400@offb.no
SUMMARY:10. november: Sval Energi - Nivå 1-trening – Oda
DESCRIPTION:Det gjennomføres en nivå 1-trening for Sval Energi på Oda 12:30-15:00.
URL:https://offb.no/kalender/10-november-sval-energi-niva-1-trening-oda-2/
END:VEVENT
BEGIN:VEVENT
DTSTART;TZID=Europe/Oslo:20231110T090000
DTEND;TZID=Europe/Oslo:20231110T133000
DTSTAMP:20260425T144831
CREATED:20230616T120615Z
LAST-MODIFIED:20230616T120615Z
UID:2080-1699606800-1699623000@offb.no
SUMMARY:10. november: Sval Energi - Nivå 1-trening - Oda
DESCRIPTION:Det gjennomføres en nivå 1-trening for Sval Energi på Oda 09:00-11:30.
URL:https://offb.no/kalender/10-november-sval-energi-niva-1-trening-oda/
END:VEVENT
BEGIN:VEVENT
DTSTART;TZID=Europe/Oslo:20231103T080000
DTEND;TZID=Europe/Oslo:20231103T120000
DTSTAMP:20260425T144831
CREATED:20230616T120425Z
LAST-MODIFIED:20230616T120425Z
UID:2078-1698998400-1699012800@offb.no
SUMMARY:3. november: Sval Energi og Aker BP: Nivå 3-øvelse - Oda
DESCRIPTION:Felles øvelse med Sval Energi og Aker BP på Oda.
URL:https://offb.no/kalender/3-november-sval-energi-og-aker-bp-niva-3-ovelse-oda/
END:VEVENT
BEGIN:VEVENT
DTSTART;TZID=Europe/Oslo:20231031T120000
DTEND;TZID=Europe/Oslo:20231031T150000
DTSTAMP:20260425T144831
CREATED:20230606T062413Z
LAST-MODIFIED:20230606T062413Z
UID:2061-1698753600-1698764400@offb.no
SUMMARY:Neptune Energy table top
DESCRIPTION:Vi arranger table top sammen med personell fra Neptune Energy i tidsrommet 0900-1200. \nØvingsleder: Pål Erland
URL:https://offb.no/kalender/neptune-energy-table-top-4/
END:VEVENT
BEGIN:VEVENT
DTSTART;TZID=Europe/Oslo:20231031T080000
DTEND;TZID=Europe/Oslo:20231031T120000
DTSTAMP:20260425T144831
CREATED:20230621T144432Z
LAST-MODIFIED:20230621T144432Z
UID:2098-1698739200-1698753600@offb.no
SUMMARY:31. oktober: Øvelse med Gassco og Aker BP
DESCRIPTION:Felles øvelse for Gassco og Aker BP med Edvard Grieg og Utsira High Gas Pipe.
URL:https://offb.no/kalender/31-oktober-ovelse-med-gassco-og-aker-bp/
END:VEVENT
BEGIN:VEVENT
DTSTART;TZID=Europe/Oslo:20231019T120000
DTEND;TZID=Europe/Oslo:20231019T143000
DTSTAMP:20260425T144831
CREATED:20231113T151908Z
LAST-MODIFIED:20231113T151908Z
UID:2232-1697716800-1697725800@offb.no
SUMMARY:19. oktober: Tabletop med Aker BP
DESCRIPTION:Tabletop i tidsrommet 12:00-14:30.
URL:https://offb.no/kalender/19-oktober-tabletop-med-aker-bp/
END:VEVENT
BEGIN:VEVENT
DTSTART;TZID=Europe/Oslo:20231017T090000
DTEND;TZID=Europe/Oslo:20231017T120000
DTSTAMP:20260425T144831
CREATED:20230606T062253Z
LAST-MODIFIED:20230606T062253Z
UID:2059-1697533200-1697544000@offb.no
SUMMARY:Neptune Energy table top
DESCRIPTION:Vi arranger table top sammen med personell fra Neptune Energy i tidsrommet 0900-1200. \nØvingsleder: Pål Erland
URL:https://offb.no/kalender/neptune-energy-table-top-3/
END:VEVENT
BEGIN:VEVENT
DTSTART;TZID=Europe/Oslo:20231003T090000
DTEND;TZID=Europe/Oslo:20231003T120000
DTSTAMP:20260425T144831
CREATED:20230606T062121Z
LAST-MODIFIED:20230606T062121Z
UID:2057-1696323600-1696334400@offb.no
SUMMARY:Neptune Energy table top
DESCRIPTION:Vi arranger table top sammen med personell fra Neptune Energy i tidsrommet 0900-1200. \nØvingsleder: Pål Erland
URL:https://offb.no/kalender/neptune-energy-table-top-2/
END:VEVENT
BEGIN:VEVENT
DTSTART;VALUE=DATE:20230921
DTEND;VALUE=DATE:20230922
DTSTAMP:20260425T144831
CREATED:20230802T083310Z
LAST-MODIFIED:20230802T083310Z
UID:2153-1695254400-1695340799@offb.no
SUMMARY:21. september: WDNO – Nivå 3- Bergknapp
DESCRIPTION:21. september: WDNO – Nivå 3- Bergknapp
URL:https://offb.no/kalender/21-september-wdno-niva-3-bergknapp/
END:VEVENT
BEGIN:VEVENT
DTSTART;TZID=Europe/Oslo:20230920T080000
DTEND;TZID=Europe/Oslo:20230920T120000
DTSTAMP:20260425T144831
CREATED:20230621T144148Z
LAST-MODIFIED:20230621T144148Z
UID:2094-1695196800-1695211200@offb.no
SUMMARY:20. september: Gassco nivå 1-øvelse
DESCRIPTION:Nivå 1-øvelse for 2. linje med Vesterled.
URL:https://offb.no/kalender/20-september-gassco-niva-1-ovelse/
END:VEVENT
BEGIN:VEVENT
DTSTART;TZID=Europe/Oslo:20230914T120000
DTEND;TZID=Europe/Oslo:20230914T160000
DTSTAMP:20260425T144831
CREATED:20230802T083050Z
LAST-MODIFIED:20230802T083535Z
UID:2151-1694692800-1694707200@offb.no
SUMMARY:14. september: Aker BP – Nivå 1- Valhall
DESCRIPTION:14. september: Aker BP – Nivå 1- Valhall
URL:https://offb.no/kalender/14-september-aker-bp-niva-1-valhall/
END:VEVENT
BEGIN:VEVENT
DTSTART;TZID=Europe/Oslo:20230914T080000
DTEND;TZID=Europe/Oslo:20230914T120000
DTSTAMP:20260425T144831
CREATED:20230621T144101Z
LAST-MODIFIED:20230621T144101Z
UID:2092-1694678400-1694692800@offb.no
SUMMARY:14. september: Gassco nivå 1-øvelse
DESCRIPTION:Nivå 1-øvelse for 2. linje med Gjøa Gas Pipe.
URL:https://offb.no/kalender/14-september-gassco-niva-1-ovelse/
END:VEVENT
BEGIN:VEVENT
DTSTART;TZID=Europe/Oslo:20230912T080000
DTEND;TZID=Europe/Oslo:20230912T140000
DTSTAMP:20260425T144831
CREATED:20230102T121429Z
LAST-MODIFIED:20230606T062730Z
UID:1807-1694505600-1694527200@offb.no
SUMMARY:Neptune Energy nivå 3 (fullskala) øvelse
DESCRIPTION:Vi arrangerer en nivå 3-øvelse (fullskala) der hele Neptune Energy sin beredskapsorganisasjon deltar. I tillegg er aktuelle offentlige samvirkeaktører og underleverandører invitert med i denne samvirke-øvelsen. Øvingslokasjoner: Gjøa\, Florø og Stavanger. \nØvingsleder: Pål Erland
URL:https://offb.no/kalender/neptune-energy-niva-3-fullskala-ovelse/
END:VEVENT
BEGIN:VEVENT
DTSTART;TZID=Europe/Oslo:20230907T080000
DTEND;TZID=Europe/Oslo:20230907T120000
DTSTAMP:20260425T144831
CREATED:20230621T144234Z
LAST-MODIFIED:20230621T144234Z
UID:2096-1694073600-1694088000@offb.no
SUMMARY:7. september: Gassco nivå 1-øvelse
DESCRIPTION:Nivå 1-øvelse for 2. linje med Polarled.
URL:https://offb.no/kalender/7-september-gassco-niva-1-ovelse/
END:VEVENT
BEGIN:VEVENT
DTSTART;TZID=Europe/Oslo:20230831T090000
DTEND;TZID=Europe/Oslo:20230831T110000
DTSTAMP:20260425T144831
CREATED:20230606T061907Z
LAST-MODIFIED:20230606T061907Z
UID:2055-1693472400-1693479600@offb.no
SUMMARY:Neptune Energy table top
DESCRIPTION:Vi arrangerer table top sammen med personell fra Neptune Energy i tidsrommet 0900-1100. Fokus er beredskapsaktiviteter før ny boreoperasjon. \nØvingsleder: Pål Erland
URL:https://offb.no/kalender/neptune-energy-table-top/
END:VEVENT
BEGIN:VEVENT
DTSTART;TZID=Europe/Oslo:20230829T090000
DTEND;TZID=Europe/Oslo:20230829T110000
DTSTAMP:20260425T144831
CREATED:20230616T120256Z
LAST-MODIFIED:20230616T120256Z
UID:2076-1693299600-1693306800@offb.no
SUMMARY:29. august: OKEA - Table top - Brage
DESCRIPTION:Table top med cybersikkerhetsscenario på Brage.
URL:https://offb.no/kalender/29-august-okea-table-top-brage/
END:VEVENT
BEGIN:VEVENT
DTSTART;TZID=Europe/Oslo:20230825T120000
DTEND;TZID=Europe/Oslo:20230825T143000
DTSTAMP:20260425T144831
CREATED:20230616T120129Z
LAST-MODIFIED:20230621T142956Z
UID:2074-1692964800-1692973800@offb.no
SUMMARY:25. august: Sval Energi - Table top - Vale decom
DESCRIPTION:Table top med samarbeidspartnere.
URL:https://offb.no/kalender/23-august-sval-energi-table-top-vale-decom/
END:VEVENT
BEGIN:VEVENT
DTSTART;TZID=Europe/Oslo:20230822T130000
DTEND;TZID=Europe/Oslo:20230822T140000
DTSTAMP:20260425T144831
CREATED:20230711T083236Z
LAST-MODIFIED:20230711T083709Z
UID:2133-1692709200-1692712800@offb.no
SUMMARY:22. august: Aker BP - Tabletop
DESCRIPTION:Tabletop 13:00-14:00 som forberedelse til produksjonsboring.
URL:https://offb.no/kalender/22-august-aker-bp-tabletop/
END:VEVENT
BEGIN:VEVENT
DTSTART;TZID=Europe/Oslo:20230713T090000
DTEND;TZID=Europe/Oslo:20230713T110000
DTSTAMP:20260425T144831
CREATED:20230606T061549Z
LAST-MODIFIED:20230606T061549Z
UID:2053-1689238800-1689246000@offb.no
SUMMARY:AkerBP table top
DESCRIPTION:Det gjennomføres table top sammen med personell fra AkerBP torsdag 13.07.2023 (0900-1100). Tema er dykkekampanje. \nKontaktperson: Pål Erland
URL:https://offb.no/kalender/akerbp-table-top/
END:VEVENT
BEGIN:VEVENT
DTSTART;TZID=Europe/Oslo:20230629T120000
DTEND;TZID=Europe/Oslo:20230629T160000
DTSTAMP:20260425T144831
CREATED:20230616T115502Z
LAST-MODIFIED:20230616T115518Z
UID:2072-1688040000-1688054400@offb.no
SUMMARY:29. juni: Aker BP - Nivå 1-øvelse - Edvard Grieg og Noble Invincible
DESCRIPTION:Nivå 1-øvelse 1200-1600.
URL:https://offb.no/kalender/29-juni-aker-bp-niva-1-ovelse-edvard-grieg-og-noble-invincible/
END:VEVENT
END:VCALENDAR