BEGIN:VCALENDAR
VERSION:2.0
PRODID:-//OFFB - Operatørenes forening for beredskap - ECPv6.15.18//NONSGML v1.0//EN
CALSCALE:GREGORIAN
METHOD:PUBLISH
X-ORIGINAL-URL:https://offb.no/en
X-WR-CALDESC:Events for OFFB - Operatørenes forening for beredskap
REFRESH-INTERVAL;VALUE=DURATION:PT1H
X-Robots-Tag:noindex
X-PUBLISHED-TTL:PT1H
BEGIN:VTIMEZONE
TZID:Europe/Oslo
BEGIN:DAYLIGHT
TZOFFSETFROM:+0100
TZOFFSETTO:+0200
TZNAME:CEST
DTSTART:20240331T010000
END:DAYLIGHT
BEGIN:STANDARD
TZOFFSETFROM:+0200
TZOFFSETTO:+0100
TZNAME:CET
DTSTART:20241027T010000
END:STANDARD
BEGIN:DAYLIGHT
TZOFFSETFROM:+0100
TZOFFSETTO:+0200
TZNAME:CEST
DTSTART:20250330T010000
END:DAYLIGHT
BEGIN:STANDARD
TZOFFSETFROM:+0200
TZOFFSETTO:+0100
TZNAME:CET
DTSTART:20251026T010000
END:STANDARD
BEGIN:DAYLIGHT
TZOFFSETFROM:+0100
TZOFFSETTO:+0200
TZNAME:CEST
DTSTART:20260329T010000
END:DAYLIGHT
BEGIN:STANDARD
TZOFFSETFROM:+0200
TZOFFSETTO:+0100
TZNAME:CET
DTSTART:20261025T010000
END:STANDARD
END:VTIMEZONE
BEGIN:VEVENT
DTSTART;TZID=Europe/Oslo:20250108T130000
DTEND;TZID=Europe/Oslo:20250108T143000
DTSTAMP:20260419T202717
CREATED:20250212T094834Z
LAST-MODIFIED:20250212T094834Z
UID:2895-1736341200-1736346600@offb.no
SUMMARY:DNO - TT "Kjøttkake"
DESCRIPTION:TT for å gjennomgå operasjonen på «Kjøttkake»
URL:https://offb.no/en/kalender/dno-tt-kjottkake/
END:VEVENT
BEGIN:VEVENT
DTSTART;TZID=Europe/Oslo:20250114T120000
DTEND;TZID=Europe/Oslo:20250114T150000
DTSTAMP:20260419T202717
CREATED:20241219T082953Z
LAST-MODIFIED:20241219T082958Z
UID:2868-1736856000-1736866800@offb.no
SUMMARY:Shell - Nyhamna - Tabletop - OT/business continuity
DESCRIPTION:
URL:https://offb.no/en/kalender/shell-nyhamna-tabletop-ot-business-continuity/
ORGANIZER;CN="Eirik Hjorth Minde":MAILTO:eirik.minde@offb.no
END:VEVENT
BEGIN:VEVENT
DTSTART;TZID=Europe/Oslo:20250122T090000
DTEND;TZID=Europe/Oslo:20250122T150000
DTSTAMP:20260419T202717
CREATED:20241219T083426Z
LAST-MODIFIED:20241219T083541Z
UID:2873-1737536400-1737558000@offb.no
SUMMARY:OFFB - Intern ICS tabletop
DESCRIPTION:
URL:https://offb.no/en/kalender/offb-ics-tabletop/
ORGANIZER;CN="Eirik Hjorth Minde":MAILTO:eirik.minde@offb.no
END:VEVENT
BEGIN:VEVENT
DTSTART;TZID=Europe/Oslo:20250128T080000
DTEND;TZID=Europe/Oslo:20250128T120000
DTSTAMP:20260419T202717
CREATED:20250212T094550Z
LAST-MODIFIED:20250212T094550Z
UID:2892-1738051200-1738065600@offb.no
SUMMARY:OFFB Intern Nivå 1 øvelse
DESCRIPTION:Hensikt: Øve varsling\, mobilisering og håndtering av hendelse DFU 3
URL:https://offb.no/en/kalender/offb-intern-niva-1-ovelse-3/
LOCATION:OFFB
END:VEVENT
BEGIN:VEVENT
DTSTART;TZID=Europe/Oslo:20250130T120000
DTEND;TZID=Europe/Oslo:20250130T160000
DTSTAMP:20260419T202717
CREATED:20250212T095155Z
LAST-MODIFIED:20250212T095155Z
UID:2897-1738238400-1738252800@offb.no
SUMMARY:Aker BP - Nivå 1 - Øvelse
DESCRIPTION:Øve Aker BP 2.linje organisasjon i  DFU 1 og DFU 10
URL:https://offb.no/en/kalender/aker-bp-niva-1-ovelse-6/
END:VEVENT
BEGIN:VEVENT
DTSTART;TZID=Europe/Oslo:20250130T160000
DTEND;TZID=Europe/Oslo:20250130T200000
DTSTAMP:20260419T202717
CREATED:20250212T095446Z
LAST-MODIFIED:20250212T095446Z
UID:2899-1738252800-1738267200@offb.no
SUMMARY:Telefonsvarsenter - Repitisjonstrening
DESCRIPTION:Trening av Telefonsvarsenteroperatører hos OFFB.\nTeori og praktisk trening ved bruk av KI for telefonsamtaler.
URL:https://offb.no/en/kalender/telefonsvarsenter-repitisjonstrening/
END:VEVENT
END:VCALENDAR