BEGIN:VCALENDAR
VERSION:2.0
PRODID:-//OFFB - Operatørenes forening for beredskap - ECPv6.15.18//NONSGML v1.0//EN
CALSCALE:GREGORIAN
METHOD:PUBLISH
X-ORIGINAL-URL:https://offb.no/en
X-WR-CALDESC:Events for OFFB - Operatørenes forening for beredskap
REFRESH-INTERVAL;VALUE=DURATION:PT1H
X-Robots-Tag:noindex
X-PUBLISHED-TTL:PT1H
BEGIN:VTIMEZONE
TZID:Europe/Oslo
BEGIN:DAYLIGHT
TZOFFSETFROM:+0100
TZOFFSETTO:+0200
TZNAME:CEST
DTSTART:20230326T010000
END:DAYLIGHT
BEGIN:STANDARD
TZOFFSETFROM:+0200
TZOFFSETTO:+0100
TZNAME:CET
DTSTART:20231029T010000
END:STANDARD
BEGIN:DAYLIGHT
TZOFFSETFROM:+0100
TZOFFSETTO:+0200
TZNAME:CEST
DTSTART:20240331T010000
END:DAYLIGHT
BEGIN:STANDARD
TZOFFSETFROM:+0200
TZOFFSETTO:+0100
TZNAME:CET
DTSTART:20241027T010000
END:STANDARD
BEGIN:DAYLIGHT
TZOFFSETFROM:+0100
TZOFFSETTO:+0200
TZNAME:CEST
DTSTART:20250330T010000
END:DAYLIGHT
BEGIN:STANDARD
TZOFFSETFROM:+0200
TZOFFSETTO:+0100
TZNAME:CET
DTSTART:20251026T010000
END:STANDARD
END:VTIMEZONE
BEGIN:VEVENT
DTSTART;TZID=Europe/Oslo:20241105T090000
DTEND;TZID=Europe/Oslo:20241105T110000
DTSTAMP:20260419T234338
CREATED:20241210T090216Z
LAST-MODIFIED:20241210T090216Z
UID:2834-1730797200-1730804400@offb.no
SUMMARY:Okea table top Bestla 2024-11-05
DESCRIPTION:Okea table top Bestla 2024-11-05. \nAgenda: \n\nWelcome – Introduction of agenda and presentation of participants\nPresentation of the operation and the team\nPresentation of Deepsea Nordkapp and the Odfjell Drilling Emergency Response Organizations\nPresentation of the Okea Emergency Response Organization\nPresentation of the Bestla Bridging Document\nCase\nSummary & questions
URL:https://offb.no/en/kalender/okea-table-top-bestla-2024-11-05/
END:VEVENT
BEGIN:VEVENT
DTSTART;TZID=Europe/Oslo:20241107T080000
DTEND;TZID=Europe/Oslo:20241107T120000
DTSTAMP:20260419T234338
CREATED:20240624T065541Z
LAST-MODIFIED:20240625T064252Z
UID:2483-1730966400-1730980800@offb.no
SUMMARY:Wintershall Dea - Øvelse Nivå 2
DESCRIPTION:Nivå 2 øvelse
URL:https://offb.no/en/kalender/wdno-ovelse-2/
END:VEVENT
BEGIN:VEVENT
DTSTART;TZID=Europe/Oslo:20241107T080000
DTEND;TZID=Europe/Oslo:20241107T140000
DTSTAMP:20260419T234338
CREATED:20240718T061248Z
LAST-MODIFIED:20240718T061248Z
UID:2704-1730966400-1730988000@offb.no
SUMMARY:Vår Energi - Beredskapsøvelse nivå 2
DESCRIPTION:Øvingsleder: Pål Erland
URL:https://offb.no/en/kalender/var-energi-beredskapsovelse-niva-2/
END:VEVENT
BEGIN:VEVENT
DTSTART;TZID=Europe/Oslo:20241115T080000
DTEND;TZID=Europe/Oslo:20241115T120000
DTSTAMP:20260419T234338
CREATED:20240624T065640Z
LAST-MODIFIED:20240624T065640Z
UID:2485-1731657600-1731672000@offb.no
SUMMARY:Øvelse med Sval og Aker BP
DESCRIPTION:Samøvelse mellom Sval og Aker BP – Nivå 3 øvelse
URL:https://offb.no/en/kalender/ovelse-med-sval-og-aker-bp/
END:VEVENT
BEGIN:VEVENT
DTSTART;TZID=Europe/Oslo:20241119T080000
DTEND;TZID=Europe/Oslo:20241119T160000
DTSTAMP:20260419T234338
CREATED:20240624T081136Z
LAST-MODIFIED:20240624T081241Z
UID:2510-1732003200-1732032000@offb.no
SUMMARY:OSEP trening Stavanger
DESCRIPTION:
URL:https://offb.no/en/kalender/osep-trening-stavanger-2/
END:VEVENT
BEGIN:VEVENT
DTSTART;TZID=Europe/Oslo:20241122T080000
DTEND;TZID=Europe/Oslo:20241122T113000
DTSTAMP:20260419T234338
CREATED:20240624T072325Z
LAST-MODIFIED:20240624T072325Z
UID:2487-1732262400-1732275000@offb.no
SUMMARY:Sval - Øvelse Nivå 1
DESCRIPTION:
URL:https://offb.no/en/kalender/sval-ovelse-niva-1/
END:VEVENT
BEGIN:VEVENT
DTSTART;TZID=Europe/Oslo:20241122T120000
DTEND;TZID=Europe/Oslo:20241122T153000
DTSTAMP:20260419T234338
CREATED:20240624T072430Z
LAST-MODIFIED:20240624T072430Z
UID:2489-1732276800-1732289400@offb.no
SUMMARY:Sval - Øvelse Nivå 1
DESCRIPTION:
URL:https://offb.no/en/kalender/sval-ovelse-niva-1-2/
END:VEVENT
BEGIN:VEVENT
DTSTART;TZID=Europe/Oslo:20241126T130000
DTEND;TZID=Europe/Oslo:20241126T150000
DTSTAMP:20260419T234338
CREATED:20240624T072524Z
LAST-MODIFIED:20241219T083142Z
UID:2491-1732626000-1732633200@offb.no
SUMMARY:Nyhamna TT
DESCRIPTION:
URL:https://offb.no/en/kalender/nyhamna-tt/
END:VEVENT
BEGIN:VEVENT
DTSTART;TZID=Europe/Oslo:20241128T080000
DTEND;TZID=Europe/Oslo:20241128T120000
DTSTAMP:20260419T234338
CREATED:20240624T081034Z
LAST-MODIFIED:20240624T081034Z
UID:2507-1732780800-1732795200@offb.no
SUMMARY:Aker BP - Nivå 1
DESCRIPTION:2. linje og ledelsesvakt
URL:https://offb.no/en/kalender/aker-bp-niva-1/
END:VEVENT
BEGIN:VEVENT
DTSTART;TZID=Europe/Oslo:20241129T080000
DTEND;TZID=Europe/Oslo:20241129T120000
DTSTAMP:20260419T234338
CREATED:20240624T072601Z
LAST-MODIFIED:20240624T072601Z
UID:2493-1732867200-1732881600@offb.no
SUMMARY:Sval - Øvelse Nivå 1
DESCRIPTION:
URL:https://offb.no/en/kalender/sval-ovelse-niva-1-3/
END:VEVENT
END:VCALENDAR