BEGIN:VCALENDAR
VERSION:2.0
PRODID:-//OFFB - Operatørenes forening for beredskap - ECPv6.15.18//NONSGML v1.0//EN
CALSCALE:GREGORIAN
METHOD:PUBLISH
X-ORIGINAL-URL:https://offb.no/en
X-WR-CALDESC:Events for OFFB - Operatørenes forening for beredskap
REFRESH-INTERVAL;VALUE=DURATION:PT1H
X-Robots-Tag:noindex
X-PUBLISHED-TTL:PT1H
BEGIN:VTIMEZONE
TZID:Europe/Oslo
BEGIN:DAYLIGHT
TZOFFSETFROM:+0100
TZOFFSETTO:+0200
TZNAME:CEST
DTSTART:20230326T010000
END:DAYLIGHT
BEGIN:STANDARD
TZOFFSETFROM:+0200
TZOFFSETTO:+0100
TZNAME:CET
DTSTART:20231029T010000
END:STANDARD
BEGIN:DAYLIGHT
TZOFFSETFROM:+0100
TZOFFSETTO:+0200
TZNAME:CEST
DTSTART:20240331T010000
END:DAYLIGHT
BEGIN:STANDARD
TZOFFSETFROM:+0200
TZOFFSETTO:+0100
TZNAME:CET
DTSTART:20241027T010000
END:STANDARD
BEGIN:DAYLIGHT
TZOFFSETFROM:+0100
TZOFFSETTO:+0200
TZNAME:CEST
DTSTART:20250330T010000
END:DAYLIGHT
BEGIN:STANDARD
TZOFFSETFROM:+0200
TZOFFSETTO:+0100
TZNAME:CET
DTSTART:20251026T010000
END:STANDARD
END:VTIMEZONE
BEGIN:VEVENT
DTSTART;TZID=Europe/Oslo:20241004T080000
DTEND;TZID=Europe/Oslo:20241004T120000
DTSTAMP:20260420T011344
CREATED:20240718T060749Z
LAST-MODIFIED:20240718T060749Z
UID:2694-1728028800-1728043200@offb.no
SUMMARY:Vår Energi - Beredskapsøvelse nivå 1
DESCRIPTION:Øvingsleder: Pål Erland
URL:https://offb.no/en/kalender/var-energi-beredskapsovelse-niva-1/
END:VEVENT
BEGIN:VEVENT
DTSTART;TZID=Europe/Oslo:20241008T080000
DTEND;TZID=Europe/Oslo:20241008T160000
DTSTAMP:20260420T011344
CREATED:20240624T065047Z
LAST-MODIFIED:20241003T122522Z
UID:2472-1728374400-1728403200@offb.no
SUMMARY:OSEP øvelse - Brønnøysund
DESCRIPTION:OSEP samling med øvelse
URL:https://offb.no/en/kalender/osep-ovelse-kristiandsund/
END:VEVENT
BEGIN:VEVENT
DTSTART;TZID=Europe/Oslo:20241011T080000
DTEND;TZID=Europe/Oslo:20241011T120000
DTSTAMP:20260420T011344
CREATED:20240718T060943Z
LAST-MODIFIED:20240718T060943Z
UID:2696-1728633600-1728648000@offb.no
SUMMARY:Vår Energi - Beredskapsøvelse nivå 1
DESCRIPTION:Øvingsleder: Pål Erland
URL:https://offb.no/en/kalender/var-energi-beredskapsovelse-niva-1-2/
END:VEVENT
BEGIN:VEVENT
DTSTART;TZID=Europe/Oslo:20241017T080000
DTEND;TZID=Europe/Oslo:20241017T120000
DTSTAMP:20260420T011344
CREATED:20240718T061027Z
LAST-MODIFIED:20240718T061027Z
UID:2698-1729152000-1729166400@offb.no
SUMMARY:Vår Energi - Beredskapsøvelse nivå 1
DESCRIPTION:Øvingsleder: Pål Erland
URL:https://offb.no/en/kalender/var-energi-beredskapsovelse-niva-1-3/
END:VEVENT
BEGIN:VEVENT
DTSTART;TZID=Europe/Oslo:20241017T120000
DTEND;TZID=Europe/Oslo:20241017T153000
DTSTAMP:20260420T011344
CREATED:20241209T121641Z
LAST-MODIFIED:20241209T121641Z
UID:2371-1729166400-1729179000@offb.no
SUMMARY:OKEA nivå 3 øvelse 2024-10-17
DESCRIPTION:OKEA nivå 3 øvelse 2024-10-17 der også Aker Solutions deltar\,
URL:https://offb.no/en/kalender/okea-niva-3-ovelse-2024-10-17/
END:VEVENT
BEGIN:VEVENT
DTSTART;TZID=Europe/Oslo:20241022T080000
DTEND;TZID=Europe/Oslo:20241022T120000
DTSTAMP:20260420T011344
CREATED:20240718T061102Z
LAST-MODIFIED:20240718T061102Z
UID:2700-1729584000-1729598400@offb.no
SUMMARY:Vår Energi - Beredskapsøvelse nivå 1
DESCRIPTION:Øvingsleder: Pål Erland
URL:https://offb.no/en/kalender/var-energi-beredskapsovelse-niva-1-4/
END:VEVENT
BEGIN:VEVENT
DTSTART;TZID=Europe/Oslo:20241022T080000
DTEND;TZID=Europe/Oslo:20241024T170000
DTSTAMP:20260420T011345
CREATED:20240624T065317Z
LAST-MODIFIED:20240624T065317Z
UID:2477-1729584000-1729789200@offb.no
SUMMARY:Aker BP Storøvelse  - Øvelse Tveegg
DESCRIPTION:OFFB deltar i Aker BP sin storøvelse – Øvelse Tveegg
URL:https://offb.no/en/kalender/aker-bp-storovelse-ovelse-tveegg/
END:VEVENT
BEGIN:VEVENT
DTSTART;TZID=Europe/Oslo:20241029T080000
DTEND;TZID=Europe/Oslo:20241029T120000
DTSTAMP:20260420T011345
CREATED:20240718T061148Z
LAST-MODIFIED:20240718T061148Z
UID:2702-1730188800-1730203200@offb.no
SUMMARY:Vår Energi - Beredskapsøvelse nivå 1
DESCRIPTION:Øvingsleder: Pål Erland
URL:https://offb.no/en/kalender/var-energi-beredskapsovelse-niva-1-5/
END:VEVENT
BEGIN:VEVENT
DTSTART;TZID=Europe/Oslo:20241029T080000
DTEND;TZID=Europe/Oslo:20241029T160000
DTSTAMP:20260420T011345
CREATED:20240624T081423Z
LAST-MODIFIED:20240624T081423Z
UID:2513-1730188800-1730217600@offb.no
SUMMARY:OSEP - Trening med øvelse - Bergen
DESCRIPTION:
URL:https://offb.no/en/kalender/osep-trening-med-ovelse-bergen/
END:VEVENT
BEGIN:VEVENT
DTSTART;TZID=Europe/Oslo:20241031T080000
DTEND;TZID=Europe/Oslo:20241031T120000
DTSTAMP:20260420T011345
CREATED:20240624T065501Z
LAST-MODIFIED:20240625T064306Z
UID:2481-1730361600-1730376000@offb.no
SUMMARY:Wintershall Dea - Øvelse Nivå 2
DESCRIPTION:Nivå 2 – øvelse
URL:https://offb.no/en/kalender/wdno-ovelse/
END:VEVENT
END:VCALENDAR