BEGIN:VCALENDAR
VERSION:2.0
PRODID:-//OFFB - Operatørenes forening for beredskap - ECPv6.15.18//NONSGML v1.0//EN
CALSCALE:GREGORIAN
METHOD:PUBLISH
X-WR-CALNAME:OFFB - Operatørenes forening for beredskap
X-ORIGINAL-URL:https://offb.no/en
X-WR-CALDESC:Events for OFFB - Operatørenes forening for beredskap
REFRESH-INTERVAL;VALUE=DURATION:PT1H
X-Robots-Tag:noindex
X-PUBLISHED-TTL:PT1H
BEGIN:VTIMEZONE
TZID:Europe/Oslo
BEGIN:DAYLIGHT
TZOFFSETFROM:+0100
TZOFFSETTO:+0200
TZNAME:CEST
DTSTART:20230326T010000
END:DAYLIGHT
BEGIN:STANDARD
TZOFFSETFROM:+0200
TZOFFSETTO:+0100
TZNAME:CET
DTSTART:20231029T010000
END:STANDARD
BEGIN:DAYLIGHT
TZOFFSETFROM:+0100
TZOFFSETTO:+0200
TZNAME:CEST
DTSTART:20240331T010000
END:DAYLIGHT
BEGIN:STANDARD
TZOFFSETFROM:+0200
TZOFFSETTO:+0100
TZNAME:CET
DTSTART:20241027T010000
END:STANDARD
BEGIN:DAYLIGHT
TZOFFSETFROM:+0100
TZOFFSETTO:+0200
TZNAME:CEST
DTSTART:20250330T010000
END:DAYLIGHT
BEGIN:STANDARD
TZOFFSETFROM:+0200
TZOFFSETTO:+0100
TZNAME:CET
DTSTART:20251026T010000
END:STANDARD
END:VTIMEZONE
BEGIN:VEVENT
DTSTART;TZID=Europe/Oslo:20240604T080000
DTEND;TZID=Europe/Oslo:20240604T160000
DTSTAMP:20260420T072551
CREATED:20240624T085343Z
LAST-MODIFIED:20240624T085343Z
UID:2584-1717488000-1717516800@offb.no
SUMMARY:OSEP - trening Bergen
DESCRIPTION:
URL:https://offb.no/en/kalender/osep-trening-bergen/
END:VEVENT
BEGIN:VEVENT
DTSTART;TZID=Europe/Oslo:20240606T080000
DTEND;TZID=Europe/Oslo:20240606T120000
DTSTAMP:20260420T072551
CREATED:20240624T085420Z
LAST-MODIFIED:20240625T065039Z
UID:2586-1717660800-1717675200@offb.no
SUMMARY:Wintershall Dea - Øvelse Nivå 2
DESCRIPTION:
URL:https://offb.no/en/kalender/wdno-niva-2-ovelse-6/
END:VEVENT
BEGIN:VEVENT
DTSTART;TZID=Europe/Oslo:20240607T080000
DTEND;TZID=Europe/Oslo:20240607T120000
DTSTAMP:20260420T072551
CREATED:20240624T085513Z
LAST-MODIFIED:20240625T065014Z
UID:2588-1717747200-1717761600@offb.no
SUMMARY:Sval - Øvelse Nivå 1
DESCRIPTION:
URL:https://offb.no/en/kalender/sval-niva-1-ovelse/
END:VEVENT
BEGIN:VEVENT
DTSTART;TZID=Europe/Oslo:20240607T120000
DTEND;TZID=Europe/Oslo:20240607T160000
DTSTAMP:20260420T072551
CREATED:20240624T085541Z
LAST-MODIFIED:20240625T064946Z
UID:2590-1717761600-1717776000@offb.no
SUMMARY:Sval - Øvelse Nivå 1
DESCRIPTION:
URL:https://offb.no/en/kalender/sval-niva-1-ovelse-2/
END:VEVENT
BEGIN:VEVENT
DTSTART;TZID=Europe/Oslo:20240612T120000
DTEND;TZID=Europe/Oslo:20240612T150000
DTSTAMP:20260420T072551
CREATED:20240624T085643Z
LAST-MODIFIED:20240625T063836Z
UID:2592-1718193600-1718204400@offb.no
SUMMARY:Wintershall Dea - TT LWI
DESCRIPTION:
URL:https://offb.no/en/kalender/wdno-tt-lwi/
END:VEVENT
BEGIN:VEVENT
DTSTART;TZID=Europe/Oslo:20240613T080000
DTEND;TZID=Europe/Oslo:20240613T120000
DTSTAMP:20260420T072551
CREATED:20240624T085707Z
LAST-MODIFIED:20240625T064926Z
UID:2594-1718265600-1718280000@offb.no
SUMMARY:Wintershall Dea - Øvelse Nivå 2
DESCRIPTION:
URL:https://offb.no/en/kalender/wdno-niva-2-ovelse-7/
END:VEVENT
BEGIN:VEVENT
DTSTART;TZID=Europe/Oslo:20240613T120000
DTEND;TZID=Europe/Oslo:20240613T150000
DTSTAMP:20260420T072551
CREATED:20240624T085748Z
LAST-MODIFIED:20240625T064859Z
UID:2596-1718280000-1718290800@offb.no
SUMMARY:DNO - Øvelse Nivå 1
DESCRIPTION:3.linje med SKT
URL:https://offb.no/en/kalender/dno-niva-1-ovelse-3/
END:VEVENT
BEGIN:VEVENT
DTSTART;TZID=Europe/Oslo:20240618T120000
DTEND;TZID=Europe/Oslo:20240618T150000
DTSTAMP:20260420T072551
CREATED:20240624T085837Z
LAST-MODIFIED:20240625T064838Z
UID:2598-1718712000-1718722800@offb.no
SUMMARY:DNO - Øvelse Nivå 1
DESCRIPTION:3.linje med SKT
URL:https://offb.no/en/kalender/dno-niva-1-ovelse-4/
END:VEVENT
BEGIN:VEVENT
DTSTART;TZID=Europe/Oslo:20240620T080000
DTEND;TZID=Europe/Oslo:20240620T120000
DTSTAMP:20260420T072551
CREATED:20240624T085905Z
LAST-MODIFIED:20240625T064757Z
UID:2600-1718870400-1718884800@offb.no
SUMMARY:Wintershall Dea - Øvelse Nivå 2
DESCRIPTION:
URL:https://offb.no/en/kalender/wdno-niva-2-ovelse-8/
END:VEVENT
BEGIN:VEVENT
DTSTART;TZID=Europe/Oslo:20240621T080000
DTEND;TZID=Europe/Oslo:20240621T120000
DTSTAMP:20260420T072551
CREATED:20240624T090158Z
LAST-MODIFIED:20240625T064724Z
UID:2602-1718956800-1718971200@offb.no
SUMMARY:Sval - Øvelse Nivå 1
DESCRIPTION:
URL:https://offb.no/en/kalender/sval-niva-1-ovelse-3/
END:VEVENT
BEGIN:VEVENT
DTSTART;TZID=Europe/Oslo:20240621T120000
DTEND;TZID=Europe/Oslo:20240621T160000
DTSTAMP:20260420T072551
CREATED:20240624T090224Z
LAST-MODIFIED:20240625T064657Z
UID:2604-1718971200-1718985600@offb.no
SUMMARY:Sval - Øvelse Nivå 1
DESCRIPTION:
URL:https://offb.no/en/kalender/sval-niva-1-ovelse-4/
END:VEVENT
BEGIN:VEVENT
DTSTART;TZID=Europe/Oslo:20240626T120000
DTEND;TZID=Europe/Oslo:20240626T150000
DTSTAMP:20260420T072551
CREATED:20240624T090310Z
LAST-MODIFIED:20240625T064633Z
UID:2606-1719403200-1719414000@offb.no
SUMMARY:DNO - Øvelse Nivå 1
DESCRIPTION:3.linje og SKT
URL:https://offb.no/en/kalender/dno-niva-1-ovelse-5/
END:VEVENT
BEGIN:VEVENT
DTSTART;TZID=Europe/Oslo:20240627T080000
DTEND;TZID=Europe/Oslo:20240627T120000
DTSTAMP:20260420T072551
CREATED:20240624T090454Z
LAST-MODIFIED:20240625T064550Z
UID:2610-1719475200-1719489600@offb.no
SUMMARY:Sval - Øvelse Nivå 1
DESCRIPTION:
URL:https://offb.no/en/kalender/sval-niva-1-ovelse-5/
END:VEVENT
BEGIN:VEVENT
DTSTART;TZID=Europe/Oslo:20240627T130000
DTEND;TZID=Europe/Oslo:20240627T150000
DTSTAMP:20260420T072551
CREATED:20240624T090401Z
LAST-MODIFIED:20240624T090401Z
UID:2608-1719493200-1719500400@offb.no
SUMMARY:A/S Norske Shell - TT Gaupe
DESCRIPTION:
URL:https://offb.no/en/kalender/a-s-norske-shell-tt-gaupe/
END:VEVENT
END:VCALENDAR