BEGIN:VCALENDAR
VERSION:2.0
PRODID:-//OFFB - Operatørenes forening for beredskap - ECPv6.15.18//NONSGML v1.0//EN
CALSCALE:GREGORIAN
METHOD:PUBLISH
X-ORIGINAL-URL:https://offb.no/en
X-WR-CALDESC:Events for OFFB - Operatørenes forening for beredskap
REFRESH-INTERVAL;VALUE=DURATION:PT1H
X-Robots-Tag:noindex
X-PUBLISHED-TTL:PT1H
BEGIN:VTIMEZONE
TZID:Europe/Oslo
BEGIN:DAYLIGHT
TZOFFSETFROM:+0100
TZOFFSETTO:+0200
TZNAME:CEST
DTSTART:20220327T010000
END:DAYLIGHT
BEGIN:STANDARD
TZOFFSETFROM:+0200
TZOFFSETTO:+0100
TZNAME:CET
DTSTART:20221030T010000
END:STANDARD
BEGIN:DAYLIGHT
TZOFFSETFROM:+0100
TZOFFSETTO:+0200
TZNAME:CEST
DTSTART:20230326T010000
END:DAYLIGHT
BEGIN:STANDARD
TZOFFSETFROM:+0200
TZOFFSETTO:+0100
TZNAME:CET
DTSTART:20231029T010000
END:STANDARD
BEGIN:DAYLIGHT
TZOFFSETFROM:+0100
TZOFFSETTO:+0200
TZNAME:CEST
DTSTART:20240331T010000
END:DAYLIGHT
BEGIN:STANDARD
TZOFFSETFROM:+0200
TZOFFSETTO:+0100
TZNAME:CET
DTSTART:20241027T010000
END:STANDARD
END:VTIMEZONE
BEGIN:VEVENT
DTSTART;TZID=Europe/Oslo:20231003T090000
DTEND;TZID=Europe/Oslo:20231003T120000
DTSTAMP:20260424T193217
CREATED:20230606T062121Z
LAST-MODIFIED:20230606T062121Z
UID:2057-1696323600-1696334400@offb.no
SUMMARY:Neptune Energy table top
DESCRIPTION:Vi arranger table top sammen med personell fra Neptune Energy i tidsrommet 0900-1200. \nØvingsleder: Pål Erland
URL:https://offb.no/en/kalender/neptune-energy-table-top-2/
END:VEVENT
BEGIN:VEVENT
DTSTART;TZID=Europe/Oslo:20231017T090000
DTEND;TZID=Europe/Oslo:20231017T120000
DTSTAMP:20260424T193217
CREATED:20230606T062253Z
LAST-MODIFIED:20230606T062253Z
UID:2059-1697533200-1697544000@offb.no
SUMMARY:Neptune Energy table top
DESCRIPTION:Vi arranger table top sammen med personell fra Neptune Energy i tidsrommet 0900-1200. \nØvingsleder: Pål Erland
URL:https://offb.no/en/kalender/neptune-energy-table-top-3/
END:VEVENT
BEGIN:VEVENT
DTSTART;TZID=Europe/Oslo:20231019T120000
DTEND;TZID=Europe/Oslo:20231019T143000
DTSTAMP:20260424T193217
CREATED:20231113T151908Z
LAST-MODIFIED:20231113T151908Z
UID:2232-1697716800-1697725800@offb.no
SUMMARY:19. oktober: Tabletop med Aker BP
DESCRIPTION:Tabletop i tidsrommet 12:00-14:30.
URL:https://offb.no/en/kalender/19-oktober-tabletop-med-aker-bp/
END:VEVENT
BEGIN:VEVENT
DTSTART;TZID=Europe/Oslo:20231031T080000
DTEND;TZID=Europe/Oslo:20231031T120000
DTSTAMP:20260424T193217
CREATED:20230621T144432Z
LAST-MODIFIED:20230621T144432Z
UID:2098-1698739200-1698753600@offb.no
SUMMARY:31. oktober: Øvelse med Gassco og Aker BP
DESCRIPTION:Felles øvelse for Gassco og Aker BP med Edvard Grieg og Utsira High Gas Pipe.
URL:https://offb.no/en/kalender/31-oktober-ovelse-med-gassco-og-aker-bp/
END:VEVENT
BEGIN:VEVENT
DTSTART;TZID=Europe/Oslo:20231031T120000
DTEND;TZID=Europe/Oslo:20231031T150000
DTSTAMP:20260424T193217
CREATED:20230606T062413Z
LAST-MODIFIED:20230606T062413Z
UID:2061-1698753600-1698764400@offb.no
SUMMARY:Neptune Energy table top
DESCRIPTION:Vi arranger table top sammen med personell fra Neptune Energy i tidsrommet 0900-1200. \nØvingsleder: Pål Erland
URL:https://offb.no/en/kalender/neptune-energy-table-top-4/
END:VEVENT
END:VCALENDAR