BEGIN:VCALENDAR
VERSION:2.0
PRODID:-//OFFB - Operatørenes forening for beredskap - ECPv6.15.18//NONSGML v1.0//EN
CALSCALE:GREGORIAN
METHOD:PUBLISH
X-WR-CALNAME:OFFB - Operatørenes forening for beredskap
X-ORIGINAL-URL:https://offb.no/en
X-WR-CALDESC:Events for OFFB - Operatørenes forening for beredskap
REFRESH-INTERVAL;VALUE=DURATION:PT1H
X-Robots-Tag:noindex
X-PUBLISHED-TTL:PT1H
BEGIN:VTIMEZONE
TZID:Europe/Oslo
BEGIN:DAYLIGHT
TZOFFSETFROM:+0100
TZOFFSETTO:+0200
TZNAME:CEST
DTSTART:20240331T010000
END:DAYLIGHT
BEGIN:STANDARD
TZOFFSETFROM:+0200
TZOFFSETTO:+0100
TZNAME:CET
DTSTART:20241027T010000
END:STANDARD
BEGIN:DAYLIGHT
TZOFFSETFROM:+0100
TZOFFSETTO:+0200
TZNAME:CEST
DTSTART:20250330T010000
END:DAYLIGHT
BEGIN:STANDARD
TZOFFSETFROM:+0200
TZOFFSETTO:+0100
TZNAME:CET
DTSTART:20251026T010000
END:STANDARD
BEGIN:DAYLIGHT
TZOFFSETFROM:+0100
TZOFFSETTO:+0200
TZNAME:CEST
DTSTART:20260329T010000
END:DAYLIGHT
BEGIN:STANDARD
TZOFFSETFROM:+0200
TZOFFSETTO:+0100
TZNAME:CET
DTSTART:20261025T010000
END:STANDARD
END:VTIMEZONE
BEGIN:VEVENT
DTSTART;TZID=Europe/Oslo:20250114T120000
DTEND;TZID=Europe/Oslo:20250114T150000
DTSTAMP:20260420T011431
CREATED:20241219T082953Z
LAST-MODIFIED:20241219T082958Z
UID:2868-1736856000-1736866800@offb.no
SUMMARY:Shell - Nyhamna - Tabletop - OT/business continuity
DESCRIPTION:
URL:https://offb.no/en/kalender/shell-nyhamna-tabletop-ot-business-continuity/
ORGANIZER;CN="Eirik Hjorth Minde":MAILTO:eirik.minde@offb.no
END:VEVENT
BEGIN:VEVENT
DTSTART;TZID=Europe/Oslo:20250122T090000
DTEND;TZID=Europe/Oslo:20250122T150000
DTSTAMP:20260420T011431
CREATED:20241219T083426Z
LAST-MODIFIED:20241219T083541Z
UID:2873-1737536400-1737558000@offb.no
SUMMARY:OFFB - Intern ICS tabletop
DESCRIPTION:
URL:https://offb.no/en/kalender/offb-ics-tabletop/
ORGANIZER;CN="Eirik Hjorth Minde":MAILTO:eirik.minde@offb.no
END:VEVENT
BEGIN:VEVENT
DTSTART;TZID=Europe/Oslo:20250128T080000
DTEND;TZID=Europe/Oslo:20250128T120000
DTSTAMP:20260420T011431
CREATED:20250212T094550Z
LAST-MODIFIED:20250212T094550Z
UID:2892-1738051200-1738065600@offb.no
SUMMARY:OFFB Intern Nivå 1 øvelse
DESCRIPTION:Hensikt: Øve varsling\, mobilisering og håndtering av hendelse DFU 3
URL:https://offb.no/en/kalender/offb-intern-niva-1-ovelse-3/
LOCATION:OFFB
END:VEVENT
BEGIN:VEVENT
DTSTART;TZID=Europe/Oslo:20250130T120000
DTEND;TZID=Europe/Oslo:20250130T160000
DTSTAMP:20260420T011431
CREATED:20250212T095155Z
LAST-MODIFIED:20250212T095155Z
UID:2897-1738238400-1738252800@offb.no
SUMMARY:Aker BP - Nivå 1 - Øvelse
DESCRIPTION:Øve Aker BP 2.linje organisasjon i  DFU 1 og DFU 10
URL:https://offb.no/en/kalender/aker-bp-niva-1-ovelse-6/
END:VEVENT
BEGIN:VEVENT
DTSTART;TZID=Europe/Oslo:20250130T160000
DTEND;TZID=Europe/Oslo:20250130T200000
DTSTAMP:20260420T011431
CREATED:20250212T095446Z
LAST-MODIFIED:20250212T095446Z
UID:2899-1738252800-1738267200@offb.no
SUMMARY:Telefonsvarsenter - Repitisjonstrening
DESCRIPTION:Trening av Telefonsvarsenteroperatører hos OFFB.\nTeori og praktisk trening ved bruk av KI for telefonsamtaler.
URL:https://offb.no/en/kalender/telefonsvarsenter-repitisjonstrening/
END:VEVENT
BEGIN:VEVENT
DTSTART;TZID=Europe/Oslo:20250203T160000
DTEND;TZID=Europe/Oslo:20250203T200000
DTSTAMP:20260420T011431
CREATED:20250212T095706Z
LAST-MODIFIED:20250212T095836Z
UID:2901-1738598400-1738612800@offb.no
SUMMARY:Telefonsvarsenter - Repetisjonstrening
DESCRIPTION:Trening av Telefonsvarsenteroperatører hos OFFB. Teori og praktisk trening ved bruk av KI for telefonsamtaler
URL:https://offb.no/en/kalender/telefonsvarsenter-repetisjon/
END:VEVENT
BEGIN:VEVENT
DTSTART;TZID=Europe/Oslo:20250205T090000
DTEND;TZID=Europe/Oslo:20250205T120000
DTSTAMP:20260420T011431
CREATED:20250114T091432Z
LAST-MODIFIED:20250114T091432Z
UID:2884-1738746000-1738756800@offb.no
SUMMARY:Okea - Brage - Nivå 3 øvelse
DESCRIPTION:Utsjekksøvelse for ny beredskapsleder i 2.linje Okea
URL:https://offb.no/en/kalender/okea-brage-niva-3-ovelse/
END:VEVENT
BEGIN:VEVENT
DTSTART;TZID=Europe/Oslo:20250205T160000
DTEND;TZID=Europe/Oslo:20250205T200000
DTSTAMP:20260420T011431
CREATED:20250213T063936Z
LAST-MODIFIED:20250213T063936Z
UID:2919-1738771200-1738785600@offb.no
SUMMARY:Telefonsvarsenter - Repetisjonstrening
DESCRIPTION:Trening av Telefonsvarsenteroperatører hos OFFB. Teori og praktisk trening ved bruk av KI for telefonsamtaler.\nKansellert: Grunnet for få påmeldte deltagere.
URL:https://offb.no/en/kalender/telefonsvarsenter-repetisjonstrening-3/
END:VEVENT
BEGIN:VEVENT
DTSTART;TZID=Europe/Oslo:20250206T080000
DTEND;TZID=Europe/Oslo:20250206T120000
DTSTAMP:20260420T011431
CREATED:20250212T100040Z
LAST-MODIFIED:20250213T063405Z
UID:2904-1738828800-1738843200@offb.no
SUMMARY:Harbour Energy - Nivå 1 Øvelse
DESCRIPTION:Øvelse med fokus på Interessentanalyse og håndtering av interessenter for 3.linje beredskapsorganisasjon hos Harbour Energy
URL:https://offb.no/en/kalender/harbour-energy-niva-2-ovelse/
END:VEVENT
BEGIN:VEVENT
DTSTART;TZID=Europe/Oslo:20250206T120000
DTEND;TZID=Europe/Oslo:20250206T160000
DTSTAMP:20260420T011431
CREATED:20250212T100143Z
LAST-MODIFIED:20250212T100143Z
UID:2906-1738843200-1738857600@offb.no
SUMMARY:Aker BP - Nivå 1 øvelse
DESCRIPTION:Øve Aker BP 2.linje organisasjon i DFU 1 og DFU 10
URL:https://offb.no/en/kalender/aker-bp-niva-1-ovelse-8/
END:VEVENT
BEGIN:VEVENT
DTSTART;TZID=Europe/Oslo:20250211T160000
DTEND;TZID=Europe/Oslo:20250211T200000
DTSTAMP:20260420T011431
CREATED:20250212T100248Z
LAST-MODIFIED:20250212T100248Z
UID:2908-1739289600-1739304000@offb.no
SUMMARY:Telefonsvarsenter- Repetisjonstrening
DESCRIPTION:Trening av Telefonsvarsenteroperatører hos OFFB. Teori og praktisk trening ved bruk av KI for telefonsamtaler.
URL:https://offb.no/en/kalender/telefonsvarsenter-repetisjonstrening/
END:VEVENT
BEGIN:VEVENT
DTSTART;TZID=Europe/Oslo:20250213T080000
DTEND;TZID=Europe/Oslo:20250213T120000
DTSTAMP:20260420T011431
CREATED:20250213T063215Z
LAST-MODIFIED:20250213T130222Z
UID:2916-1739433600-1739448000@offb.no
SUMMARY:Harbour Energy - Nivå 1 Øvelse
DESCRIPTION:Øvelse med fokus på Interessentanalyse og håndtering av interessenter for 3.linje beredskapsorganisasjon hos Harbour Energy.
URL:https://offb.no/en/kalender/harbour-energy-niva-1-ovelse/
END:VEVENT
BEGIN:VEVENT
DTSTART;TZID=Europe/Oslo:20250213T090000
DTEND;TZID=Europe/Oslo:20250213T120000
DTSTAMP:20260420T011431
CREATED:20241219T083109Z
LAST-MODIFIED:20241219T083109Z
UID:2870-1739437200-1739448000@offb.no
SUMMARY:Gassco - Vestprosess - Nivå 3
DESCRIPTION:
URL:https://offb.no/en/kalender/gassco-vestprosess-niva-3/
ORGANIZER;CN="Eirik Hjorth Minde":MAILTO:eirik.minde@offb.no
END:VEVENT
BEGIN:VEVENT
DTSTART;TZID=Europe/Oslo:20250213T120000
DTEND;TZID=Europe/Oslo:20250213T160000
DTSTAMP:20260420T011431
CREATED:20250212T100513Z
LAST-MODIFIED:20250212T100513Z
UID:2910-1739448000-1739462400@offb.no
SUMMARY:Aker BP - Nivå 2 Øvelse
DESCRIPTION:Øve Aker BP 2ndre og 3dje linje organisasjon i DFU 1 og DFU 10
URL:https://offb.no/en/kalender/aker-bp-niva-2-ovelse/
END:VEVENT
BEGIN:VEVENT
DTSTART;TZID=Europe/Oslo:20250217T160000
DTEND;TZID=Europe/Oslo:20250217T200000
DTSTAMP:20260420T011431
CREATED:20250213T062857Z
LAST-MODIFIED:20250213T062857Z
UID:2912-1739808000-1739822400@offb.no
SUMMARY:Telefonsvarsenter-Grunnopplæring - Praktisk
DESCRIPTION:Grunnopplæring av telefonsvaroperatører til OFFB Telefonsvarsenter.
URL:https://offb.no/en/kalender/telefonsvarsenter-grunnopplaering-praktisk/
END:VEVENT
BEGIN:VEVENT
DTSTART;TZID=Europe/Oslo:20250218T080000
DTEND;TZID=Europe/Oslo:20250218T120000
DTSTAMP:20260420T011431
CREATED:20250211T082327Z
LAST-MODIFIED:20250211T082327Z
UID:2889-1739865600-1739880000@offb.no
SUMMARY:OFFB - Intern nivå 1
DESCRIPTION:Nivå 1 øvelse for 2. linje.
URL:https://offb.no/en/kalender/offb-intern-niva-1-4/
ORGANIZER;CN="Eirik Hjorth Minde":MAILTO:eirik.minde@offb.no
END:VEVENT
BEGIN:VEVENT
DTSTART;TZID=Europe/Oslo:20250219T160000
DTEND;TZID=Europe/Oslo:20250219T200000
DTSTAMP:20260420T011431
CREATED:20250213T063041Z
LAST-MODIFIED:20250213T063041Z
UID:2914-1739980800-1739995200@offb.no
SUMMARY:Telefonsvarsenter - Repetisjonstrening
DESCRIPTION:Trening av Telefonsvarsenteroperatører hos OFFB. Teori og praktisk trening ved bruk av KI for telefonsamtaler.
URL:https://offb.no/en/kalender/telefonsvarsenter-repetisjonstrening-2/
END:VEVENT
BEGIN:VEVENT
DTSTART;TZID=Europe/Oslo:20250305T083000
DTEND;TZID=Europe/Oslo:20250305T140000
DTSTAMP:20260420T011431
CREATED:20240624T064941Z
LAST-MODIFIED:20241219T083305Z
UID:2470-1741163400-1741183200@offb.no
SUMMARY:Shell - Nyhamna - Storøvelse
DESCRIPTION:Årlig Storøvelse
URL:https://offb.no/en/kalender/a-s-norske-shell-ovelse/
ORGANIZER;CN="Eirik Hjorth Minde":MAILTO:eirik.minde@offb.no
END:VEVENT
BEGIN:VEVENT
DTSTART;TZID=Europe/Oslo:20250312T080000
DTEND;TZID=Europe/Oslo:20250312T120000
DTSTAMP:20260420T011431
CREATED:20250310T131937Z
LAST-MODIFIED:20250310T133521Z
UID:2936-1741766400-1741780800@offb.no
SUMMARY:OFFB - Nivå 1 øvelse
DESCRIPTION:Intern nivå 1-øvelse for 2. linje i tidsrommet 0800-1200
URL:https://offb.no/en/kalender/offb-niva-1-ovelse/
END:VEVENT
BEGIN:VEVENT
DTSTART;TZID=Europe/Oslo:20250320T090000
DTEND;TZID=Europe/Oslo:20250320T120000
DTSTAMP:20260420T011431
CREATED:20250213T090737Z
LAST-MODIFIED:20250213T090746Z
UID:2924-1742461200-1742472000@offb.no
SUMMARY:Okea - Nivå 3 øvelse
DESCRIPTION:Øvelse der kontraktør Aker Solutions deltar med egen 2.linje
URL:https://offb.no/en/kalender/okea-niva-3-ovelse-3/
END:VEVENT
BEGIN:VEVENT
DTSTART;TZID=Europe/Oslo:20250320T090000
DTEND;TZID=Europe/Oslo:20250320T130000
DTSTAMP:20260420T011431
CREATED:20250320T114344Z
LAST-MODIFIED:20250320T114344Z
UID:2976-1742461200-1742475600@offb.no
SUMMARY:Harbour Energy - TT Havstjerne
DESCRIPTION:TT med gjennomgang av brodokument med fokus på SIMOPS marine operasjoner og beredskapsforhold
URL:https://offb.no/en/kalender/harbour-energy-tt-havstjerne/
END:VEVENT
BEGIN:VEVENT
DTSTART;TZID=Europe/Oslo:20250325T080000
DTEND;TZID=Europe/Oslo:20250325T120000
DTSTAMP:20260420T011431
CREATED:20250319T162722Z
LAST-MODIFIED:20250319T162742Z
UID:2965-1742889600-1742904000@offb.no
SUMMARY:OFFB - Intern nivå 1 øvelse for 2. linje
DESCRIPTION:
URL:https://offb.no/en/kalender/intern-niva-1-ovelse-for-2-linje/
END:VEVENT
BEGIN:VEVENT
DTSTART;TZID=Europe/Oslo:20250401T090000
DTEND;TZID=Europe/Oslo:20250401T120000
DTSTAMP:20260420T011431
CREATED:20250310T132858Z
LAST-MODIFIED:20250310T133120Z
UID:2944-1743498000-1743508800@offb.no
SUMMARY:OSEP-samling for personell i Brønnøysund
DESCRIPTION:Operatørens senter for evakuerte og pårørende (OSEP) er del av OFFB sitt oppsett ved mobilisering. I dag samles personell fra Brønnøysund på Teams i regi av OFFB for kompetansehevende aktiviteter. \nKontaktperson OFFB: Pål Erland
URL:https://offb.no/en/kalender/osep-samling-for-personell-i-bronnoysund/
END:VEVENT
BEGIN:VEVENT
DTSTART;TZID=Europe/Oslo:20250402T090000
DTEND;TZID=Europe/Oslo:20250402T120000
DTSTAMP:20260420T011431
CREATED:20250310T133003Z
LAST-MODIFIED:20250310T133003Z
UID:2946-1743584400-1743595200@offb.no
SUMMARY:OSEP-samling for personell i Kristiansund
DESCRIPTION:Operatørens senter for evakuerte og pårørende (OSEP) er del av OFFB sitt oppsett ved mobilisering. I dag samles personell fra Kristiansund på Teams i regi av OFFB for kompetansehevende aktiviteter. \nKontaktperson OFFB: Pål Erland
URL:https://offb.no/en/kalender/osep-samling-for-personell-i-kristiansund/
END:VEVENT
BEGIN:VEVENT
DTSTART;TZID=Europe/Oslo:20250407T090000
DTEND;TZID=Europe/Oslo:20250407T120000
DTSTAMP:20260420T011431
CREATED:20250310T132606Z
LAST-MODIFIED:20250310T132606Z
UID:2942-1744016400-1744027200@offb.no
SUMMARY:Sjømannskirkens årlige fagseminar avholdes hos OFFB
DESCRIPTION:Fagseminar for Sjømannskirkens samarbeidspartnere avholdes hos OFFB. Dette er en årlig aktivitet med fokus på kollegastøtte og psykologisk førstehjelp. \nKontaktperson OFFB: Pål Erland
URL:https://offb.no/en/kalender/sjomannskirkens-arlige-fagseminar-avholdes-hos-offb/
END:VEVENT
BEGIN:VEVENT
DTSTART;TZID=Europe/Oslo:20250408T080000
DTEND;TZID=Europe/Oslo:20250408T120000
DTSTAMP:20260420T011431
CREATED:20250310T132153Z
LAST-MODIFIED:20250310T132153Z
UID:2938-1744099200-1744113600@offb.no
SUMMARY:OFFB - Nivå 1 øvelse
DESCRIPTION:Intern nivå 1-øvelse for 2. linje i tidsrommet 0800-1200. I tillegg deltar personell fra OSEP Bergen.
URL:https://offb.no/en/kalender/offb-niva-1-ovelse-2/
END:VEVENT
BEGIN:VEVENT
DTSTART;TZID=Europe/Oslo:20250409T090000
DTEND;TZID=Europe/Oslo:20250409T120000
DTSTAMP:20260420T011431
CREATED:20250310T133206Z
LAST-MODIFIED:20250310T133206Z
UID:2949-1744189200-1744200000@offb.no
SUMMARY:OSEP-samling for personell i Florø
DESCRIPTION:Operatørens senter for evakuerte og pårørende (OSEP) er del av OFFB sitt oppsett ved mobilisering. I dag samles personell fra Florø på Teams i regi av OFFB for kompetansehevende aktiviteter. \nKontaktperson OFFB: Pål Erland
URL:https://offb.no/en/kalender/osep-samling-for-personell-i-floro/
END:VEVENT
BEGIN:VEVENT
DTSTART;TZID=Europe/Oslo:20250423T080000
DTEND;TZID=Europe/Oslo:20250423T120000
DTSTAMP:20260420T011431
CREATED:20250306T134442Z
LAST-MODIFIED:20250306T134442Z
UID:2932-1745395200-1745409600@offb.no
SUMMARY:OFFB - Intern nivå 1
DESCRIPTION:Intern nivå 1 øvelse for 2.linje
URL:https://offb.no/en/kalender/offb-intern-niva-1-5/
END:VEVENT
BEGIN:VEVENT
DTSTART;TZID=Europe/Oslo:20250423T090000
DTEND;TZID=Europe/Oslo:20250423T120000
DTSTAMP:20260420T011431
CREATED:20250310T133253Z
LAST-MODIFIED:20250310T133304Z
UID:2951-1745398800-1745409600@offb.no
SUMMARY:OSEP-samling for personell i Bergen
DESCRIPTION:Operatørens senter for evakuerte og pårørende (OSEP) er del av OFFB sitt oppsett ved mobilisering. I dag samles personell fra Bergen på Teams i regi av OFFB for kompetansehevende aktiviteter. \nKontaktperson OFFB: Pål Erland
URL:https://offb.no/en/kalender/osep-samling-for-personell-i-bergen/
END:VEVENT
BEGIN:VEVENT
DTSTART;TZID=Europe/Oslo:20250424T090000
DTEND;TZID=Europe/Oslo:20250424T120000
DTSTAMP:20260420T011431
CREATED:20250310T133401Z
LAST-MODIFIED:20250310T133401Z
UID:2953-1745485200-1745496000@offb.no
SUMMARY:OSEP-samling for personell i Stavanger
DESCRIPTION:Operatørens senter for evakuerte og pårørende (OSEP) er del av OFFB sitt oppsett ved mobilisering. I dag samles personell fra Stavanger hos OFFB for kompetansehevende aktiviteter. \nKontaktperson OFFB: Pål Erland
URL:https://offb.no/en/kalender/osep-samling-for-personell-i-stavanger/
END:VEVENT
END:VCALENDAR