BEGIN:VCALENDAR
VERSION:2.0
PRODID:-//OFFB - Operatørenes forening for beredskap - ECPv6.15.18//NONSGML v1.0//EN
CALSCALE:GREGORIAN
METHOD:PUBLISH
X-WR-CALNAME:OFFB - Operatørenes forening for beredskap
X-ORIGINAL-URL:https://offb.no/en
X-WR-CALDESC:Events for OFFB - Operatørenes forening for beredskap
REFRESH-INTERVAL;VALUE=DURATION:PT1H
X-Robots-Tag:noindex
X-PUBLISHED-TTL:PT1H
BEGIN:VTIMEZONE
TZID:Europe/Oslo
BEGIN:DAYLIGHT
TZOFFSETFROM:+0100
TZOFFSETTO:+0200
TZNAME:CEST
DTSTART:20220327T010000
END:DAYLIGHT
BEGIN:STANDARD
TZOFFSETFROM:+0200
TZOFFSETTO:+0100
TZNAME:CET
DTSTART:20221030T010000
END:STANDARD
BEGIN:DAYLIGHT
TZOFFSETFROM:+0100
TZOFFSETTO:+0200
TZNAME:CEST
DTSTART:20230326T010000
END:DAYLIGHT
BEGIN:STANDARD
TZOFFSETFROM:+0200
TZOFFSETTO:+0100
TZNAME:CET
DTSTART:20231029T010000
END:STANDARD
BEGIN:DAYLIGHT
TZOFFSETFROM:+0100
TZOFFSETTO:+0200
TZNAME:CEST
DTSTART:20240331T010000
END:DAYLIGHT
BEGIN:STANDARD
TZOFFSETFROM:+0200
TZOFFSETTO:+0100
TZNAME:CET
DTSTART:20241027T010000
END:STANDARD
END:VTIMEZONE
BEGIN:VEVENT
DTSTART;TZID=Europe/Oslo:20231206T080000
DTEND;TZID=Europe/Oslo:20231206T120000
DTSTAMP:20260424T180309
CREATED:20231205T125239Z
LAST-MODIFIED:20231205T130538Z
UID:2240-1701849600-1701864000@offb.no
SUMMARY:OSEP-øvelse i Stavanger med DNO og Sjømannskirken
DESCRIPTION:OFFB gjennomfører OSEP-øvelse på Thon Hotel Maritim i samvirke med Securitas\, DNO\, Thon Hotel og Sjømannskirken. Det brukes markører som vil spille evakuerte fra en offshore-innretning. \n(OSEP: Operatørens senter for evakuerte og pårørende) \nØvingsledelse: Pål Erland og Kim Sviland
URL:https://offb.no/en/kalender/osep-ovelse-i-stavanger-med-dno-og-sjomannskirken/
END:VEVENT
BEGIN:VEVENT
DTSTART;TZID=Europe/Oslo:20231206T120000
DTEND;TZID=Europe/Oslo:20231206T153000
DTSTAMP:20260424T180309
CREATED:20231205T125500Z
LAST-MODIFIED:20231205T130926Z
UID:2242-1701864000-1701876600@offb.no
SUMMARY:Table top - Neptune Energy
DESCRIPTION:Table top gjennomføres for beredskapsorganisasjonen til Neptune Energy med deltakelse også fra Gjøa-innretningen. \nØvingsleder: Pål Erland
URL:https://offb.no/en/kalender/table-top-ovelse-neptune-energy/
END:VEVENT
END:VCALENDAR